BEGIN:VCALENDAR
VERSION:2.0
PRODID:-//Hofgut Leo - ECPv6.15.20//NONSGML v1.0//EN
CALSCALE:GREGORIAN
METHOD:PUBLISH
X-ORIGINAL-URL:https://hofgutleo.de
X-WR-CALDESC:Veranstaltungen für Hofgut Leo
REFRESH-INTERVAL;VALUE=DURATION:PT1H
X-Robots-Tag:noindex
X-PUBLISHED-TTL:PT1H
BEGIN:VTIMEZONE
TZID:Europe/Berlin
BEGIN:DAYLIGHT
TZOFFSETFROM:+0100
TZOFFSETTO:+0200
TZNAME:CEST
DTSTART:20240331T010000
END:DAYLIGHT
BEGIN:STANDARD
TZOFFSETFROM:+0200
TZOFFSETTO:+0100
TZNAME:CET
DTSTART:20241027T010000
END:STANDARD
BEGIN:DAYLIGHT
TZOFFSETFROM:+0100
TZOFFSETTO:+0200
TZNAME:CEST
DTSTART:20250330T010000
END:DAYLIGHT
BEGIN:STANDARD
TZOFFSETFROM:+0200
TZOFFSETTO:+0100
TZNAME:CET
DTSTART:20251026T010000
END:STANDARD
BEGIN:DAYLIGHT
TZOFFSETFROM:+0100
TZOFFSETTO:+0200
TZNAME:CEST
DTSTART:20260329T010000
END:DAYLIGHT
BEGIN:STANDARD
TZOFFSETFROM:+0200
TZOFFSETTO:+0100
TZNAME:CET
DTSTART:20261025T010000
END:STANDARD
END:VTIMEZONE
BEGIN:VEVENT
DTSTART;TZID=Europe/Berlin:20251127T130000
DTEND;TZID=Europe/Berlin:20251127T133000
DTSTAMP:20260421T021324
CREATED:20251111T081106Z
LAST-MODIFIED:20251111T081148Z
UID:10002899-1764248400-1764250200@hofgutleo.de
SUMMARY:Online-Event: Talblick TV Premiere am 27.11. 13:00-13:30 Uhr
DESCRIPTION:Wir haben eine besondere Einladung für euch:\nOnline-Event: Talblick TV – live aus dem Seminarhaus Sonnhalde.  \nIn der Online-Veranstaltung werden spannende Betriebe aus der Region vorgestellt. Und wir haben die Ehre das Hofgut LEO in der Premiere am 27.11. vorstellen zu dürfen. \n📅 Datum: Mittwoch\, 27. November\n⏰ Zeit: 13:00 – 13:30 Uhr\n💻 Ort: Online per Zoom\n🔗 Gratis Anmeldung: Hier klicken & anmelden  \nIn 30 Minuten bekommt ihr einen starken Blick hinter die Kulissen:  \n\nWer steckt hinter Seminarhaus Sonnhalde und was macht den Ort aus \n\n\nWelche Partner aus unserer Region – sind mit dabei \n\n\nWie Gruppen (Retreats\, Teams\, Seminarveranstalter) genau bei uns bzw. bei Sonnhalde einen passenden Ort für sich finden \n\nExtra-Anreiz: Alle\, die live dabei sind\, haben die Chance auf einen Gutschein im Wert von 200 – 500 € für eine Buchung im Seminarhaus Sonnhalde.  \nWarum das interessant ist?  \n\nWeil es nicht nur ums Zuschauen geht – sondern um echte Möglichkeit\,\neuren nächsten Schritt zu planen (Retreat\, Offsite\, Seminar…) \n\n\nWeil emotionale Momente + Natur + Kooperation = neue Ideen bringen \n\n\nWeil wir gemeinsam unsere Region sichtbar machen und das gute Leben für alle fördern können  \n\n➡️ Zur Anmeldung geht’s hier: Talblick TV Eventseite\n➡️ Mehr über Sonnhalde: www.seminarhaus-sonnhalde.de  \n  \nWir freuen uns\, viele von euch online zu sehen und gemeinsam etwas Großes zu starten. 
URL:https://hofgutleo.de/event/talblick-tv/
LOCATION:online
CATEGORIES:Genossenschaft,Kultur
ATTACH;FMTTYPE=image/jpeg:https://hofgutleo.de/wp-content/uploads/2025/11/20251107_TalblickTV_Sharepic.jpg
END:VEVENT
BEGIN:VEVENT
DTSTART;TZID=Europe/Berlin:20251008T160000
DTEND;TZID=Europe/Berlin:20251008T180000
DTSTAMP:20260421T021324
CREATED:20250814T090237Z
LAST-MODIFIED:20250910T100700Z
UID:10002672-1759939200-1759946400@hofgutleo.de
SUMMARY:Infoveranstaltung: Regeneratives Führen und Zusammenarbeiten in Organisationen
DESCRIPTION:Die Infoveranstaltung ist kostenfrei und findet online + in Präsenz im Hofgut LEO statt. \n“Regeneratives Führen und Zusammenarbeiten”  DIE Antwort auf die aktuellen Herausforderungen der Multi-Krisen \nDie Multi-Krisen erfordern von uns „zukunfts-weise“ Entscheidungen nach Außen in Richtung Märkte\, Kunden und Produktportfolio und nach Innen zum Aufbau von „Regenerativen Kulturen“ in allen Bereichen und auf allen Ebenen der Organisation ein Garant für die Zukunftssicherung. \nDas Seminar richtet sich an alle\, die in Unternehmen Verantwortung tragen für die Führung der Organisation als Ganzes und von Menschen. – also an Unternehmer oder Geschäftsführer\, an Führungskräfte und an Mitarbeitende in Personalabteilungen.  \n  \nIn den beiden Informationsveranstaltungen stellt Bernhard Rettler das Grundkonzept des Seminars 2025 und der Seminarreihe mit 3 Terminen in 2026 vor. \n 
URL:https://hofgutleo.de/event/infoveranstaltung-regeneratives-fuehren-und-zusammenarbeiten-in-organisationen/2025-10-08/
LOCATION:Hofgut Leo\, Gresgen 40\, Zell im Wiesental\, Baden-Württemberg\, 79669\, Deutschland
CATEGORIES:Akademie,Genossenschaft
ATTACH;FMTTYPE=image/jpeg:https://hofgutleo.de/wp-content/uploads/2024/08/Rettler-Bernhard-1538b.jpg
END:VEVENT
BEGIN:VEVENT
DTSTART;TZID=Europe/Berlin:20250917T160000
DTEND;TZID=Europe/Berlin:20250917T180000
DTSTAMP:20260421T021324
CREATED:20250814T090237Z
LAST-MODIFIED:20250910T100700Z
UID:10002671-1758124800-1758132000@hofgutleo.de
SUMMARY:Infoveranstaltung: Regeneratives Führen und Zusammenarbeiten in Organisationen
DESCRIPTION:Die Infoveranstaltung ist kostenfrei und findet online + in Präsenz im Hofgut LEO statt. \n“Regeneratives Führen und Zusammenarbeiten”  DIE Antwort auf die aktuellen Herausforderungen der Multi-Krisen \nDie Multi-Krisen erfordern von uns „zukunfts-weise“ Entscheidungen nach Außen in Richtung Märkte\, Kunden und Produktportfolio und nach Innen zum Aufbau von „Regenerativen Kulturen“ in allen Bereichen und auf allen Ebenen der Organisation ein Garant für die Zukunftssicherung. \nDas Seminar richtet sich an alle\, die in Unternehmen Verantwortung tragen für die Führung der Organisation als Ganzes und von Menschen. – also an Unternehmer oder Geschäftsführer\, an Führungskräfte und an Mitarbeitende in Personalabteilungen.  \n  \nIn den beiden Informationsveranstaltungen stellt Bernhard Rettler das Grundkonzept des Seminars 2025 und der Seminarreihe mit 3 Terminen in 2026 vor. \n 
URL:https://hofgutleo.de/event/infoveranstaltung-regeneratives-fuehren-und-zusammenarbeiten-in-organisationen/2025-09-17/
LOCATION:Hofgut Leo\, Gresgen 40\, Zell im Wiesental\, Baden-Württemberg\, 79669\, Deutschland
CATEGORIES:Akademie,Genossenschaft
ATTACH;FMTTYPE=image/jpeg:https://hofgutleo.de/wp-content/uploads/2024/08/Rettler-Bernhard-1538b.jpg
END:VEVENT
END:VCALENDAR