BEGIN:VCALENDAR
VERSION:2.0
PRODID:-//Hofgut Leo - ECPv6.15.20//NONSGML v1.0//EN
CALSCALE:GREGORIAN
METHOD:PUBLISH
X-ORIGINAL-URL:https://hofgutleo.de
X-WR-CALDESC:Veranstaltungen für Hofgut Leo
REFRESH-INTERVAL;VALUE=DURATION:PT1H
X-Robots-Tag:noindex
X-PUBLISHED-TTL:PT1H
BEGIN:VTIMEZONE
TZID:Europe/Berlin
BEGIN:DAYLIGHT
TZOFFSETFROM:+0100
TZOFFSETTO:+0200
TZNAME:CEST
DTSTART:20230326T010000
END:DAYLIGHT
BEGIN:STANDARD
TZOFFSETFROM:+0200
TZOFFSETTO:+0100
TZNAME:CET
DTSTART:20231029T010000
END:STANDARD
BEGIN:DAYLIGHT
TZOFFSETFROM:+0100
TZOFFSETTO:+0200
TZNAME:CEST
DTSTART:20240331T010000
END:DAYLIGHT
BEGIN:STANDARD
TZOFFSETFROM:+0200
TZOFFSETTO:+0100
TZNAME:CET
DTSTART:20241027T010000
END:STANDARD
BEGIN:DAYLIGHT
TZOFFSETFROM:+0100
TZOFFSETTO:+0200
TZNAME:CEST
DTSTART:20250330T010000
END:DAYLIGHT
BEGIN:STANDARD
TZOFFSETFROM:+0200
TZOFFSETTO:+0100
TZNAME:CET
DTSTART:20251026T010000
END:STANDARD
BEGIN:DAYLIGHT
TZOFFSETFROM:+0100
TZOFFSETTO:+0200
TZNAME:CEST
DTSTART:20260329T010000
END:DAYLIGHT
BEGIN:STANDARD
TZOFFSETFROM:+0200
TZOFFSETTO:+0100
TZNAME:CET
DTSTART:20261025T010000
END:STANDARD
END:VTIMEZONE
BEGIN:VEVENT
DTSTART;TZID=Europe/Berlin:20250814T193000
DTEND;TZID=Europe/Berlin:20250814T223000
DTSTAMP:20260420T225838
CREATED:20250611T201240Z
LAST-MODIFIED:20251110T105422Z
UID:10002025-1755199800-1755210600@hofgutleo.de
SUMMARY:LEO Musiker JAM und Stammtisch
DESCRIPTION:Musiker JAM & Stammtisch – Jeden 2. Donnerstag im Monat \nJeden zweiten Donnerstag im Monat verwandelt sich das Hofgut in einen Ort für Musikliebhaber. Von spontanen Mini-Konzerten\, Austausch über Musik bei einem guten Glas Wein\, über das Entdecken des eigenen musikalischen Talents oder das Genießen der mitreißenden Klänge. Bei den legendären Jam-Sessions im Hofgut LEO sind alle willkommen\, die Lust auf Musik haben. \nDa der Musiker JAM spontan aus dem Moment heraus entsteht\, können wir keine festen Konzerte versprechen. Manchmal trifft man sich einfach auf ein Bier und spricht über Musik. Auch spontane Karaoke-Einlagen oder einfach das Genießen regionaler Spezialitäten sind möglich. Es geht um Freude\, Austausch und gemeinsame Zeit mit netten Menschen – nicht um Perfektion oder Programm. \nWas erwartet Dich? \n\nSpontanes Musizieren: Musiker aus der Region treffen sich\, um gemeinsam zu jammen – ganz ohne festen Ablauf\, dafür mit umso mehr Gefühl und Intuition.\nOpen Jam Sessions: Bühne frei für alle\, die Lust haben\, sich musikalisch auszuprobieren – ob mit Stimme\, Instrument oder beidem.\nMitmachen ist erwünscht: Mitsingen\, Mitgrooven\, Mitfühlen – wer möchte\, wird Teil des musikalischen Geschehens.\nStammtisch: Fachsimpeln\, Quatschen über Musik und was dich sonst gerade so bewegt\nKleine Snacks & Spezialitäten aus unserer Küche\n\n Eintritt frei\, die Musiker freuen sich über eine kleine Hutspende. \nKomm vorbei\, bring dein Instrument oder einfach gute Laune mit – wir freuen uns auf dich!
URL:https://hofgutleo.de/event/musiker-jam_stammtisch/2025-08-14/
LOCATION:Hofgut Leo\, Gresgen 40\, Zell im Wiesental\, Baden-Württemberg\, 79669\, Deutschland
CATEGORIES:Kulinarik,Kultur,Musik
ATTACH;FMTTYPE=image/jpeg:https://hofgutleo.de/wp-content/uploads/2024/12/photo_2024-12-31_11-46-26.jpg
END:VEVENT
BEGIN:VEVENT
DTSTART;TZID=Europe/Berlin:20250710T193000
DTEND;TZID=Europe/Berlin:20250710T223000
DTSTAMP:20260420T225838
CREATED:20250611T201240Z
LAST-MODIFIED:20251110T105422Z
UID:10002024-1752175800-1752186600@hofgutleo.de
SUMMARY:LEO Musiker JAM und Stammtisch
DESCRIPTION:Musiker JAM & Stammtisch – Jeden 2. Donnerstag im Monat \nJeden zweiten Donnerstag im Monat verwandelt sich das Hofgut in einen Ort für Musikliebhaber. Von spontanen Mini-Konzerten\, Austausch über Musik bei einem guten Glas Wein\, über das Entdecken des eigenen musikalischen Talents oder das Genießen der mitreißenden Klänge. Bei den legendären Jam-Sessions im Hofgut LEO sind alle willkommen\, die Lust auf Musik haben. \nDa der Musiker JAM spontan aus dem Moment heraus entsteht\, können wir keine festen Konzerte versprechen. Manchmal trifft man sich einfach auf ein Bier und spricht über Musik. Auch spontane Karaoke-Einlagen oder einfach das Genießen regionaler Spezialitäten sind möglich. Es geht um Freude\, Austausch und gemeinsame Zeit mit netten Menschen – nicht um Perfektion oder Programm. \nWas erwartet Dich? \n\nSpontanes Musizieren: Musiker aus der Region treffen sich\, um gemeinsam zu jammen – ganz ohne festen Ablauf\, dafür mit umso mehr Gefühl und Intuition.\nOpen Jam Sessions: Bühne frei für alle\, die Lust haben\, sich musikalisch auszuprobieren – ob mit Stimme\, Instrument oder beidem.\nMitmachen ist erwünscht: Mitsingen\, Mitgrooven\, Mitfühlen – wer möchte\, wird Teil des musikalischen Geschehens.\nStammtisch: Fachsimpeln\, Quatschen über Musik und was dich sonst gerade so bewegt\nKleine Snacks & Spezialitäten aus unserer Küche\n\n Eintritt frei\, die Musiker freuen sich über eine kleine Hutspende. \nKomm vorbei\, bring dein Instrument oder einfach gute Laune mit – wir freuen uns auf dich!
URL:https://hofgutleo.de/event/musiker-jam_stammtisch/2025-07-10/
LOCATION:Hofgut Leo\, Gresgen 40\, Zell im Wiesental\, Baden-Württemberg\, 79669\, Deutschland
CATEGORIES:Kulinarik,Kultur,Musik
ATTACH;FMTTYPE=image/jpeg:https://hofgutleo.de/wp-content/uploads/2024/12/photo_2024-12-31_11-46-26.jpg
END:VEVENT
BEGIN:VEVENT
DTSTART;VALUE=DATE:20241121
DTEND;VALUE=DATE:20241123
DTSTAMP:20260420T225838
CREATED:20241015T173005Z
LAST-MODIFIED:20241107T150640Z
UID:10001588-1732147200-1732319999@hofgutleo.de
SUMMARY:Seminar regenerative Innovationsentwicklung von Thomas Hann
DESCRIPTION:Ticketreservierung an: Thomas.hann@hofgutleo.de \n  \nSie stehen vor komplexen Herausforderungen\, die mit herkömmlichen Ansätzen nicht mehr zu lösen sind? Ihr Unternehmen steckt fest in alten Denkmustern\, die sich auf kurzfristige Problemlösungen fokussieren? Es ist Zeit\, neue Lösungsräume zu eröffnen – Lösungen\, die weit über das hinausgehen\, was bisher möglich schien. \nIn meinem Seminar zur regenerativen Innovationsentwicklung zeige ich Ihnen\, wie Sie durch die Reaktivierung natürlicher Intelligenz und den Zugang zu regenerativen Technologien sowie alternativen Wirtschafts- und Gemeinschaftsmodellen weltweit völlig neue Wege finden. Diese Ansätze haben das Potenzial\, Ihre Innovationskraft zu entfesseln und Ihr Unternehmen auf eine nachhaltige\, zukunftsfähige Basis zu stellen. \nWas bedeutet das konkret für Sie & Ihr Unternehmen? \nSchluss mit problembehaftetem Denken: \n\nSie lernen\, neue Perspektiven einzunehmen und Ihre natürlichen Fähigkeiten zu reaktivieren\, um intuitive\, ganzheitliche Lösungen für komplexe Probleme zu finden.\nRegenerative Technologien nutzen: Ich biete Ihnen einen umfassenden Überblick über regenerative Technologien und alternative Wirtschaftsmodelle\, die global erfolgreich umgesetzt werden. Diese Modelle eröffnen Ihnen neue Einkommensquellen und Möglichkeiten\, die weit über das hinausgehen\, was Ihnen herkömmliche Lösungsansätze bieten.\nNeue Einkommenspotenziale erschließen: Steigern Ihre Wettbewerbsfähigkeit durch die Implementierung regenerativer Geschäftsmodelle\, die nicht nur ökologisch\, sondern auch wirtschaftlich erfolgreich sind.\nHier die Detailbeschreibung zum Seminar regenerative Innovationsentwicklung\nEs findet statt im Hofgut LEO in 79669 Zell im Wiesental / Gresgen\nvom 21.11. bis 22.11.2024\nBeide Tage von 9 Uhr bis ca. 17 Uhr\n\nTicketreservierung an: Thomas.hann@hofgutleo.de\n\nnur 7 Plätze verfügbar\n\nSeminargebühr 639 Euro (inkl. Steuer) zzgl. gewählter Übernachtung und Verpflegung\n\nZimmerreservierung bitte direkt an: hallo@hofgutleo.de\nÜbernachtungskosten und Verpflegung sind nicht im Seminarpreis enthalten.\nEine Stornierung ist kostenlos bis 28 Tage vor vereinbartem Termin. Bei Absagen von weniger als 28 Tagen bis spätestens 7 Tagen vor dem vereinbarten Termin werden 50% des Honorars fällig. Bei Absagen innerhalb von 7 Tagen vor dem vereinbarten Termin wird das volle Honorar fällig. Die Rechnungsstellung erfolgt im Anschluss an die abrechenbare Leistung und ist zahlbar innerhalb von 14 Tagen ohne Abzüge.
URL:https://hofgutleo.de/event/seminar-regenerative-innovationsentwicklung-von-thomas-hann/
LOCATION:Hofgut Leo\, Gresgen 40\, Zell im Wiesental\, Baden-Württemberg\, 79669\, Deutschland
CATEGORIES:Genossenschaft,Kultur
ATTACH;FMTTYPE=image/jpeg:https://hofgutleo.de/wp-content/uploads/2024/10/DSC09569-1400x680.jpg.pagespeed.ce_.iONqVPiXIl-e1729066575575.jpg
END:VEVENT
END:VCALENDAR