BEGIN:VCALENDAR
VERSION:2.0
PRODID:-//Hofgut Leo - ECPv6.15.20//NONSGML v1.0//EN
CALSCALE:GREGORIAN
METHOD:PUBLISH
X-WR-CALNAME:Hofgut Leo
X-ORIGINAL-URL:https://hofgutleo.de
X-WR-CALDESC:Veranstaltungen für Hofgut Leo
REFRESH-INTERVAL;VALUE=DURATION:PT1H
X-Robots-Tag:noindex
X-PUBLISHED-TTL:PT1H
BEGIN:VTIMEZONE
TZID:Europe/Berlin
BEGIN:DAYLIGHT
TZOFFSETFROM:+0100
TZOFFSETTO:+0200
TZNAME:CEST
DTSTART:20220327T010000
END:DAYLIGHT
BEGIN:STANDARD
TZOFFSETFROM:+0200
TZOFFSETTO:+0100
TZNAME:CET
DTSTART:20221030T010000
END:STANDARD
BEGIN:DAYLIGHT
TZOFFSETFROM:+0100
TZOFFSETTO:+0200
TZNAME:CEST
DTSTART:20230326T010000
END:DAYLIGHT
BEGIN:STANDARD
TZOFFSETFROM:+0200
TZOFFSETTO:+0100
TZNAME:CET
DTSTART:20231029T010000
END:STANDARD
BEGIN:DAYLIGHT
TZOFFSETFROM:+0100
TZOFFSETTO:+0200
TZNAME:CEST
DTSTART:20240331T010000
END:DAYLIGHT
BEGIN:STANDARD
TZOFFSETFROM:+0200
TZOFFSETTO:+0100
TZNAME:CET
DTSTART:20241027T010000
END:STANDARD
BEGIN:DAYLIGHT
TZOFFSETFROM:+0100
TZOFFSETTO:+0200
TZNAME:CEST
DTSTART:20250330T010000
END:DAYLIGHT
BEGIN:STANDARD
TZOFFSETFROM:+0200
TZOFFSETTO:+0100
TZNAME:CET
DTSTART:20251026T010000
END:STANDARD
BEGIN:DAYLIGHT
TZOFFSETFROM:+0100
TZOFFSETTO:+0200
TZNAME:CEST
DTSTART:20260329T010000
END:DAYLIGHT
BEGIN:STANDARD
TZOFFSETFROM:+0200
TZOFFSETTO:+0100
TZNAME:CET
DTSTART:20261025T010000
END:STANDARD
END:VTIMEZONE
BEGIN:VEVENT
DTSTART;TZID=Europe/Berlin:20251113T090000
DTEND;TZID=Europe/Berlin:20251114T170000
DTSTAMP:20260421T021330
CREATED:20250814T091127Z
LAST-MODIFIED:20250910T100814Z
UID:10002673-1763024400-1763139600@hofgutleo.de
SUMMARY:Basis-Seminar: Regeneratives Führen und Zusammenarbeiten
DESCRIPTION:  \n“Regeneratives Führen und Zusammenarbeiten”  DIE Antwort auf die aktuellen Herausforderungen der Multi-Krisen \nDie Multi-Krisen erfordern von uns „zukunfts-weise“ Entscheidungen nach Außen in Richtung Märkte\, Kunden und Produktportfolio und nach Innen zum Aufbau von „Regenerativen Kulturen“ in allen Bereichen und auf allen Ebenen der Organisation ein Garant für die Zukunftssicherung. \nDas Seminar richtet sich an alle\, die in Unternehmen Verantwortung tragen für die Führung der Organisation als Ganzes und von Menschen. – also an Unternehmer oder Geschäftsführer\, an Führungskräfte und an Mitarbeitende in Personalabteilungen.  \n  \nWas erwartet die Teilnehmenden im Basis-Seminar?  \nSie bekommen eine Idee von einer Unternehmensführung\, die dem „Leitbild lebendiger Systeme“ folgt.  \nSie bekommen eine Struktur und Instrumente für die Analyse und Einschätzung des Reifegrades Ihrer aktuellen Organisation nach den Kriterien des o.g. Leitbilds. \nSie bekommen Beispiele für konkrete Umsetzungsschritte zur Transformation Ihrer Strukturen und Prozesse.   \nSie bekommen ein Tool zur Wirksamkeits- Steuerung Ihrer Transformation zum Regenerativen Zusammenarbeiten und Führen. \nMit dem klaren Bekenntnis zu den Grundsätzen eines lebensdienlichen Zusammenarbeitens können Verantwortliche in Organisationen so nachhaltige und gesunde Organisationen mit wirkungsvoll arbeitenden Menschen gestalten.  \n  \nTrainer & Seminarleiter: Bernhard Rettler \nSeminarzeiten: 13. – 14. November 2025 jeweils 9 – 17 Uhr \nSeminargebühr: 639 € (ohne Verpflegung & Übernachtung) \n 
URL:https://hofgutleo.de/event/basis-seminar-regeneratives-fuehren-und-zusammenarbeiten/
LOCATION:Hofgut Leo\, Gresgen 40\, Zell im Wiesental\, Baden-Württemberg\, 79669\, Deutschland
CATEGORIES:Akademie,Genossenschaft
ATTACH;FMTTYPE=image/jpeg:https://hofgutleo.de/wp-content/uploads/2024/08/Rettler-Bernhard-1538b.jpg
END:VEVENT
BEGIN:VEVENT
DTSTART;TZID=Europe/Berlin:20251008T160000
DTEND;TZID=Europe/Berlin:20251008T180000
DTSTAMP:20260421T021330
CREATED:20250814T090237Z
LAST-MODIFIED:20250910T100700Z
UID:10002672-1759939200-1759946400@hofgutleo.de
SUMMARY:Infoveranstaltung: Regeneratives Führen und Zusammenarbeiten in Organisationen
DESCRIPTION:Die Infoveranstaltung ist kostenfrei und findet online + in Präsenz im Hofgut LEO statt. \n“Regeneratives Führen und Zusammenarbeiten”  DIE Antwort auf die aktuellen Herausforderungen der Multi-Krisen \nDie Multi-Krisen erfordern von uns „zukunfts-weise“ Entscheidungen nach Außen in Richtung Märkte\, Kunden und Produktportfolio und nach Innen zum Aufbau von „Regenerativen Kulturen“ in allen Bereichen und auf allen Ebenen der Organisation ein Garant für die Zukunftssicherung. \nDas Seminar richtet sich an alle\, die in Unternehmen Verantwortung tragen für die Führung der Organisation als Ganzes und von Menschen. – also an Unternehmer oder Geschäftsführer\, an Führungskräfte und an Mitarbeitende in Personalabteilungen.  \n  \nIn den beiden Informationsveranstaltungen stellt Bernhard Rettler das Grundkonzept des Seminars 2025 und der Seminarreihe mit 3 Terminen in 2026 vor. \n 
URL:https://hofgutleo.de/event/infoveranstaltung-regeneratives-fuehren-und-zusammenarbeiten-in-organisationen/2025-10-08/
LOCATION:Hofgut Leo\, Gresgen 40\, Zell im Wiesental\, Baden-Württemberg\, 79669\, Deutschland
CATEGORIES:Akademie,Genossenschaft
ATTACH;FMTTYPE=image/jpeg:https://hofgutleo.de/wp-content/uploads/2024/08/Rettler-Bernhard-1538b.jpg
END:VEVENT
BEGIN:VEVENT
DTSTART;TZID=Europe/Berlin:20250917T160000
DTEND;TZID=Europe/Berlin:20250917T180000
DTSTAMP:20260421T021330
CREATED:20250814T090237Z
LAST-MODIFIED:20250910T100700Z
UID:10002671-1758124800-1758132000@hofgutleo.de
SUMMARY:Infoveranstaltung: Regeneratives Führen und Zusammenarbeiten in Organisationen
DESCRIPTION:Die Infoveranstaltung ist kostenfrei und findet online + in Präsenz im Hofgut LEO statt. \n“Regeneratives Führen und Zusammenarbeiten”  DIE Antwort auf die aktuellen Herausforderungen der Multi-Krisen \nDie Multi-Krisen erfordern von uns „zukunfts-weise“ Entscheidungen nach Außen in Richtung Märkte\, Kunden und Produktportfolio und nach Innen zum Aufbau von „Regenerativen Kulturen“ in allen Bereichen und auf allen Ebenen der Organisation ein Garant für die Zukunftssicherung. \nDas Seminar richtet sich an alle\, die in Unternehmen Verantwortung tragen für die Führung der Organisation als Ganzes und von Menschen. – also an Unternehmer oder Geschäftsführer\, an Führungskräfte und an Mitarbeitende in Personalabteilungen.  \n  \nIn den beiden Informationsveranstaltungen stellt Bernhard Rettler das Grundkonzept des Seminars 2025 und der Seminarreihe mit 3 Terminen in 2026 vor. \n 
URL:https://hofgutleo.de/event/infoveranstaltung-regeneratives-fuehren-und-zusammenarbeiten-in-organisationen/2025-09-17/
LOCATION:Hofgut Leo\, Gresgen 40\, Zell im Wiesental\, Baden-Württemberg\, 79669\, Deutschland
CATEGORIES:Akademie,Genossenschaft
ATTACH;FMTTYPE=image/jpeg:https://hofgutleo.de/wp-content/uploads/2024/08/Rettler-Bernhard-1538b.jpg
END:VEVENT
BEGIN:VEVENT
DTSTART;TZID=Europe/Berlin:20230709T160000
DTEND;TZID=Europe/Berlin:20230709T180000
DTSTAMP:20260421T021330
CREATED:20230110T124319Z
LAST-MODIFIED:20230224T130738Z
UID:10000016-1688918400-1688925600@hofgutleo.de
SUMMARY:Vortragsreihe "Regenerativ und Nachhaltig"- Unterwegs zu einer neuen Regionalentwicklung" mit Thomas Hann
DESCRIPTION:Regional? Genial! \nDie Welt ist ein Dorf. Persönlichkeiten bewegen sie\, nicht Prinzipien. \nRegionalentwicklung ist ein schnelles und effektives Mittel um Wohlstand\, Stabilität und gemeinschaftliche Ausrichtung in einer Region zu verankern. \nRegionale Wertschöpfung bewegt sich viel schneller\, stabiler und transparenter als Gelder in „großen Kreisläufen“ – eines meiner Lieblingsbeispiele dazu sind Onlineversender – bezahlt man eine Rechnung an diese\, ist das Geld einfach „weg“ – bezahlt man eine Leistung im Dorf\, bewegt sich dieses Geld noch viele weitere Male und schafft so eine Multiplikation lokaler Wertschöpfung UND sozialen Kontakt. \nHier am Beispiel erneuerbarer Energien aufgezeigt. \nWas mich aber noch mehr umtreibt\, ist der Gedanke dass viele der Leistungen die eine regionale Gemeinschaft für ein gutes Leben vor Ort benötigen würde durch sie selbst her- oder bereitgestellt werden können. Strom\, Wärme\, Nahrung\, Baumaterialien\, Wohnraum\, Mobilität und eine schier endlose Liste weiterer Möglichkeiten bestehen um dort wo Menschen leben auch die Grundlage für dieses Leben zu schaffen – im Einklang mit der Natur und den lokalen Ressourcen. Solche ökosozialen Innovationen gibt es bereits an vielen Orten und mutige Wegbereiter sind teilweise schon vor Jahrzehnten losgelaufen und haben profunde Ergebnisse geschaffen. \nOb der Staat in einigen Jahren noch in der Lage sein wird die Daseinsvorsorge (Versorgung mit den wesentlichen Grundbedarfen) für die Bürger zu leisten kann jeder selbst entscheiden\, aber die ungeheure Summe von 6.738.300.000.000 Euro Geldvermögen der privaten Haushalte ist derzeit kaum dafür eingesetzt diese Grundversorgung zu leisten\, sondern (leider) eher dafür\, sie zu untergraben. Denn über Anlageprodukte bei denen viele Anleger überhaupt nicht Wissen wo ihre Gelder sind\, werden genau die shareholdergetriebenen Entscheidungen angeheizt über die sich so mancher Bürger zu recht empört. \nBürgereigene Infrastruktur und Daseinsvorsorge-Genossenschaften sind eine profunde Lösung um lokalen Gemeinschaften wieder die Perspektive zu geben die eigene Versorgungssicherheit selbst in der Hand zu halten. \nGenossenschaften sind die vermögens-wirksame Umsetzung von Gemeinschaft. \nHinzu kommt\, dass eine Steigerung des Gemein-Eigentums auch automatisch die Souveränität jedes Gemeinschaftsmitglieds erhöht und so die Resilienz (Krisenstabilität) und das Gemeinschaftsgefühl stärkt. Wenn man diese Gemeinschaft noch an ökosozialen Prinzipien ausrichtet\, kann man zu Recht von Zukunftssicherheit sprechen. Das geschieht durch die Verankerung lebensdienlicher Prinzipien und durch die Schaffung generationengerechter Lösungen\, denn eine Region mit nachhaltigen und sinnvollen Arbeitsplätzen verhindert auch das Abwandern der jungen Generationen. (Thomas Hann) \nProbleme kann man niemals mit derselben Denkweise lösen\, durch die sie entstanden sind. (Albert Einstein)\nAn economist says ‘more for you is less for me.’ But the lover knows that more for you is more for me\, too. (Charles Eisenstein)
URL:https://hofgutleo.de/event/ruhe-meditation/2023-07-09/
LOCATION:Leo Gartensaal
CATEGORIES:Genossenschaft,Gesundheit,Kultur
ATTACH;FMTTYPE=image/jpeg:https://hofgutleo.de/wp-content/uploads/2023/01/download.jpg
END:VEVENT
BEGIN:VEVENT
DTSTART;TZID=Europe/Berlin:20230611T160000
DTEND;TZID=Europe/Berlin:20230611T180000
DTSTAMP:20260421T021330
CREATED:20230110T124319Z
LAST-MODIFIED:20230224T130738Z
UID:10000015-1686499200-1686506400@hofgutleo.de
SUMMARY:Vortragsreihe "Regenerativ und Nachhaltig"- Unterwegs zu einer neuen Regionalentwicklung" mit Thomas Hann
DESCRIPTION:Regional? Genial! \nDie Welt ist ein Dorf. Persönlichkeiten bewegen sie\, nicht Prinzipien. \nRegionalentwicklung ist ein schnelles und effektives Mittel um Wohlstand\, Stabilität und gemeinschaftliche Ausrichtung in einer Region zu verankern. \nRegionale Wertschöpfung bewegt sich viel schneller\, stabiler und transparenter als Gelder in „großen Kreisläufen“ – eines meiner Lieblingsbeispiele dazu sind Onlineversender – bezahlt man eine Rechnung an diese\, ist das Geld einfach „weg“ – bezahlt man eine Leistung im Dorf\, bewegt sich dieses Geld noch viele weitere Male und schafft so eine Multiplikation lokaler Wertschöpfung UND sozialen Kontakt. \nHier am Beispiel erneuerbarer Energien aufgezeigt. \nWas mich aber noch mehr umtreibt\, ist der Gedanke dass viele der Leistungen die eine regionale Gemeinschaft für ein gutes Leben vor Ort benötigen würde durch sie selbst her- oder bereitgestellt werden können. Strom\, Wärme\, Nahrung\, Baumaterialien\, Wohnraum\, Mobilität und eine schier endlose Liste weiterer Möglichkeiten bestehen um dort wo Menschen leben auch die Grundlage für dieses Leben zu schaffen – im Einklang mit der Natur und den lokalen Ressourcen. Solche ökosozialen Innovationen gibt es bereits an vielen Orten und mutige Wegbereiter sind teilweise schon vor Jahrzehnten losgelaufen und haben profunde Ergebnisse geschaffen. \nOb der Staat in einigen Jahren noch in der Lage sein wird die Daseinsvorsorge (Versorgung mit den wesentlichen Grundbedarfen) für die Bürger zu leisten kann jeder selbst entscheiden\, aber die ungeheure Summe von 6.738.300.000.000 Euro Geldvermögen der privaten Haushalte ist derzeit kaum dafür eingesetzt diese Grundversorgung zu leisten\, sondern (leider) eher dafür\, sie zu untergraben. Denn über Anlageprodukte bei denen viele Anleger überhaupt nicht Wissen wo ihre Gelder sind\, werden genau die shareholdergetriebenen Entscheidungen angeheizt über die sich so mancher Bürger zu recht empört. \nBürgereigene Infrastruktur und Daseinsvorsorge-Genossenschaften sind eine profunde Lösung um lokalen Gemeinschaften wieder die Perspektive zu geben die eigene Versorgungssicherheit selbst in der Hand zu halten. \nGenossenschaften sind die vermögens-wirksame Umsetzung von Gemeinschaft. \nHinzu kommt\, dass eine Steigerung des Gemein-Eigentums auch automatisch die Souveränität jedes Gemeinschaftsmitglieds erhöht und so die Resilienz (Krisenstabilität) und das Gemeinschaftsgefühl stärkt. Wenn man diese Gemeinschaft noch an ökosozialen Prinzipien ausrichtet\, kann man zu Recht von Zukunftssicherheit sprechen. Das geschieht durch die Verankerung lebensdienlicher Prinzipien und durch die Schaffung generationengerechter Lösungen\, denn eine Region mit nachhaltigen und sinnvollen Arbeitsplätzen verhindert auch das Abwandern der jungen Generationen. (Thomas Hann) \nProbleme kann man niemals mit derselben Denkweise lösen\, durch die sie entstanden sind. (Albert Einstein)\nAn economist says ‘more for you is less for me.’ But the lover knows that more for you is more for me\, too. (Charles Eisenstein)
URL:https://hofgutleo.de/event/ruhe-meditation/2023-06-11/
LOCATION:Leo Gartensaal
CATEGORIES:Genossenschaft,Gesundheit,Kultur
ATTACH;FMTTYPE=image/jpeg:https://hofgutleo.de/wp-content/uploads/2023/01/download.jpg
END:VEVENT
BEGIN:VEVENT
DTSTART;TZID=Europe/Berlin:20230514T160000
DTEND;TZID=Europe/Berlin:20230514T180000
DTSTAMP:20260421T021330
CREATED:20230110T124319Z
LAST-MODIFIED:20230224T130738Z
UID:10000014-1684080000-1684087200@hofgutleo.de
SUMMARY:Vortragsreihe "Regenerativ und Nachhaltig"- Unterwegs zu einer neuen Regionalentwicklung" mit Thomas Hann
DESCRIPTION:Regional? Genial! \nDie Welt ist ein Dorf. Persönlichkeiten bewegen sie\, nicht Prinzipien. \nRegionalentwicklung ist ein schnelles und effektives Mittel um Wohlstand\, Stabilität und gemeinschaftliche Ausrichtung in einer Region zu verankern. \nRegionale Wertschöpfung bewegt sich viel schneller\, stabiler und transparenter als Gelder in „großen Kreisläufen“ – eines meiner Lieblingsbeispiele dazu sind Onlineversender – bezahlt man eine Rechnung an diese\, ist das Geld einfach „weg“ – bezahlt man eine Leistung im Dorf\, bewegt sich dieses Geld noch viele weitere Male und schafft so eine Multiplikation lokaler Wertschöpfung UND sozialen Kontakt. \nHier am Beispiel erneuerbarer Energien aufgezeigt. \nWas mich aber noch mehr umtreibt\, ist der Gedanke dass viele der Leistungen die eine regionale Gemeinschaft für ein gutes Leben vor Ort benötigen würde durch sie selbst her- oder bereitgestellt werden können. Strom\, Wärme\, Nahrung\, Baumaterialien\, Wohnraum\, Mobilität und eine schier endlose Liste weiterer Möglichkeiten bestehen um dort wo Menschen leben auch die Grundlage für dieses Leben zu schaffen – im Einklang mit der Natur und den lokalen Ressourcen. Solche ökosozialen Innovationen gibt es bereits an vielen Orten und mutige Wegbereiter sind teilweise schon vor Jahrzehnten losgelaufen und haben profunde Ergebnisse geschaffen. \nOb der Staat in einigen Jahren noch in der Lage sein wird die Daseinsvorsorge (Versorgung mit den wesentlichen Grundbedarfen) für die Bürger zu leisten kann jeder selbst entscheiden\, aber die ungeheure Summe von 6.738.300.000.000 Euro Geldvermögen der privaten Haushalte ist derzeit kaum dafür eingesetzt diese Grundversorgung zu leisten\, sondern (leider) eher dafür\, sie zu untergraben. Denn über Anlageprodukte bei denen viele Anleger überhaupt nicht Wissen wo ihre Gelder sind\, werden genau die shareholdergetriebenen Entscheidungen angeheizt über die sich so mancher Bürger zu recht empört. \nBürgereigene Infrastruktur und Daseinsvorsorge-Genossenschaften sind eine profunde Lösung um lokalen Gemeinschaften wieder die Perspektive zu geben die eigene Versorgungssicherheit selbst in der Hand zu halten. \nGenossenschaften sind die vermögens-wirksame Umsetzung von Gemeinschaft. \nHinzu kommt\, dass eine Steigerung des Gemein-Eigentums auch automatisch die Souveränität jedes Gemeinschaftsmitglieds erhöht und so die Resilienz (Krisenstabilität) und das Gemeinschaftsgefühl stärkt. Wenn man diese Gemeinschaft noch an ökosozialen Prinzipien ausrichtet\, kann man zu Recht von Zukunftssicherheit sprechen. Das geschieht durch die Verankerung lebensdienlicher Prinzipien und durch die Schaffung generationengerechter Lösungen\, denn eine Region mit nachhaltigen und sinnvollen Arbeitsplätzen verhindert auch das Abwandern der jungen Generationen. (Thomas Hann) \nProbleme kann man niemals mit derselben Denkweise lösen\, durch die sie entstanden sind. (Albert Einstein)\nAn economist says ‘more for you is less for me.’ But the lover knows that more for you is more for me\, too. (Charles Eisenstein)
URL:https://hofgutleo.de/event/ruhe-meditation/2023-05-14/
LOCATION:Leo Gartensaal
CATEGORIES:Genossenschaft,Gesundheit,Kultur
ATTACH;FMTTYPE=image/jpeg:https://hofgutleo.de/wp-content/uploads/2023/01/download.jpg
END:VEVENT
BEGIN:VEVENT
DTSTART;TZID=Europe/Berlin:20230312T160000
DTEND;TZID=Europe/Berlin:20230312T180000
DTSTAMP:20260421T021330
CREATED:20230110T124319Z
LAST-MODIFIED:20230224T130738Z
UID:10000004-1678636800-1678644000@hofgutleo.de
SUMMARY:Vortragsreihe "Regenerativ und Nachhaltig"- Unterwegs zu einer neuen Regionalentwicklung" mit Thomas Hann
DESCRIPTION:Regional? Genial! \nDie Welt ist ein Dorf. Persönlichkeiten bewegen sie\, nicht Prinzipien. \nRegionalentwicklung ist ein schnelles und effektives Mittel um Wohlstand\, Stabilität und gemeinschaftliche Ausrichtung in einer Region zu verankern. \nRegionale Wertschöpfung bewegt sich viel schneller\, stabiler und transparenter als Gelder in „großen Kreisläufen“ – eines meiner Lieblingsbeispiele dazu sind Onlineversender – bezahlt man eine Rechnung an diese\, ist das Geld einfach „weg“ – bezahlt man eine Leistung im Dorf\, bewegt sich dieses Geld noch viele weitere Male und schafft so eine Multiplikation lokaler Wertschöpfung UND sozialen Kontakt. \nHier am Beispiel erneuerbarer Energien aufgezeigt. \nWas mich aber noch mehr umtreibt\, ist der Gedanke dass viele der Leistungen die eine regionale Gemeinschaft für ein gutes Leben vor Ort benötigen würde durch sie selbst her- oder bereitgestellt werden können. Strom\, Wärme\, Nahrung\, Baumaterialien\, Wohnraum\, Mobilität und eine schier endlose Liste weiterer Möglichkeiten bestehen um dort wo Menschen leben auch die Grundlage für dieses Leben zu schaffen – im Einklang mit der Natur und den lokalen Ressourcen. Solche ökosozialen Innovationen gibt es bereits an vielen Orten und mutige Wegbereiter sind teilweise schon vor Jahrzehnten losgelaufen und haben profunde Ergebnisse geschaffen. \nOb der Staat in einigen Jahren noch in der Lage sein wird die Daseinsvorsorge (Versorgung mit den wesentlichen Grundbedarfen) für die Bürger zu leisten kann jeder selbst entscheiden\, aber die ungeheure Summe von 6.738.300.000.000 Euro Geldvermögen der privaten Haushalte ist derzeit kaum dafür eingesetzt diese Grundversorgung zu leisten\, sondern (leider) eher dafür\, sie zu untergraben. Denn über Anlageprodukte bei denen viele Anleger überhaupt nicht Wissen wo ihre Gelder sind\, werden genau die shareholdergetriebenen Entscheidungen angeheizt über die sich so mancher Bürger zu recht empört. \nBürgereigene Infrastruktur und Daseinsvorsorge-Genossenschaften sind eine profunde Lösung um lokalen Gemeinschaften wieder die Perspektive zu geben die eigene Versorgungssicherheit selbst in der Hand zu halten. \nGenossenschaften sind die vermögens-wirksame Umsetzung von Gemeinschaft. \nHinzu kommt\, dass eine Steigerung des Gemein-Eigentums auch automatisch die Souveränität jedes Gemeinschaftsmitglieds erhöht und so die Resilienz (Krisenstabilität) und das Gemeinschaftsgefühl stärkt. Wenn man diese Gemeinschaft noch an ökosozialen Prinzipien ausrichtet\, kann man zu Recht von Zukunftssicherheit sprechen. Das geschieht durch die Verankerung lebensdienlicher Prinzipien und durch die Schaffung generationengerechter Lösungen\, denn eine Region mit nachhaltigen und sinnvollen Arbeitsplätzen verhindert auch das Abwandern der jungen Generationen. (Thomas Hann) \nProbleme kann man niemals mit derselben Denkweise lösen\, durch die sie entstanden sind. (Albert Einstein)\nAn economist says ‘more for you is less for me.’ But the lover knows that more for you is more for me\, too. (Charles Eisenstein)
URL:https://hofgutleo.de/event/ruhe-meditation/2023-03-12/
LOCATION:Leo Gartensaal
CATEGORIES:Genossenschaft,Gesundheit,Kultur
ATTACH;FMTTYPE=image/jpeg:https://hofgutleo.de/wp-content/uploads/2023/01/download.jpg
END:VEVENT
END:VCALENDAR