BEGIN:VCALENDAR
VERSION:2.0
PRODID:-//Hofgut Leo - ECPv6.15.20//NONSGML v1.0//EN
CALSCALE:GREGORIAN
METHOD:PUBLISH
X-ORIGINAL-URL:https://hofgutleo.de
X-WR-CALDESC:Veranstaltungen für Hofgut Leo
REFRESH-INTERVAL;VALUE=DURATION:PT1H
X-Robots-Tag:noindex
X-PUBLISHED-TTL:PT1H
BEGIN:VTIMEZONE
TZID:Europe/Berlin
BEGIN:DAYLIGHT
TZOFFSETFROM:+0100
TZOFFSETTO:+0200
TZNAME:CEST
DTSTART:20250330T010000
END:DAYLIGHT
BEGIN:STANDARD
TZOFFSETFROM:+0200
TZOFFSETTO:+0100
TZNAME:CET
DTSTART:20251026T010000
END:STANDARD
BEGIN:DAYLIGHT
TZOFFSETFROM:+0100
TZOFFSETTO:+0200
TZNAME:CEST
DTSTART:20260329T010000
END:DAYLIGHT
BEGIN:STANDARD
TZOFFSETFROM:+0200
TZOFFSETTO:+0100
TZNAME:CET
DTSTART:20261025T010000
END:STANDARD
BEGIN:DAYLIGHT
TZOFFSETFROM:+0100
TZOFFSETTO:+0200
TZNAME:CEST
DTSTART:20270328T010000
END:DAYLIGHT
BEGIN:STANDARD
TZOFFSETFROM:+0200
TZOFFSETTO:+0100
TZNAME:CET
DTSTART:20271031T010000
END:STANDARD
END:VTIMEZONE
BEGIN:VEVENT
DTSTART;TZID=Europe/Berlin:20260501T100000
DTEND;TZID=Europe/Berlin:20260501T180000
DTSTAMP:20260420T173356
CREATED:20251110T112332Z
LAST-MODIFIED:20251110T112430Z
UID:10001535-1777629600-1777658400@hofgutleo.de
SUMMARY:Intensiv-Behandlung: Marma-Abhyanga-Wirbelsäulen
DESCRIPTION:Entdecken Sie einzigartige Behandlungsmethoden mit R.P. Adam\, PhD.\, Dr. Ac. MY\, Ihrem Experten für Ayurveda und ganzheitliche Heilung. \nDieses Angebot umfasst: Marma-Therapie\, Abhyanga-Massage\, Wirbelsäulenbehandlung\, Moxibustion und Akupunktur\, angereichert mit traditionellen indischen Heilölen. \n  \nVerfügbarkeit: \n\nJeden ersten Freitag im Monat\nUhrzeit: 10:00 – 18:00 Uhr\nDauer: 1\,5 Stunden pro Behandlung\n\n  \nHonorar pro Behandlung: 142\,00 € inklusive Konsultation\, Beratung\, Behandlung & Raummiete \nAnmeldung & Info: \n+49 171 2842127 \nadam@samadhana.com \n  \nSAMADHANA Badenweiler\n  \nYogacharya\, Heilpraktiker\, dipl. Ayurveda-Spezialist\, Akupunkteur\, cert. Prana-Healer\, Tae-Kwon-Do 3. Dan\, Zen-Lehrer\, Nei-Kung-Instructor\, verfügt über 35-jährige intensive Erkenntnisse in den asiatischen Heil- und Lebenskünsten. \n  \nEr unterrichtet\, behandelt und bildet aus in der Naturheilpraxis & Yogaschule Olten und im HOFGUT LEO. \nEr entwickelte „Nadi-Yoga im Zyklus der fünf Wandlungen“ für geschwächte\, alte und kranke Menschen\, einer Synthese aus TCM und traditionellem Yoga\, um das Energiesystem über die Ausrichtung der Nadis zu balancieren. \n  \nEr begleitet Herz- und Krebspatienten mit „Yoga of the heart“ nach Nischala Joy Devi\, USA und betreut seit über 45 Jahren Menschen mit Burn-out in Ayurveda-Kuren. \n  \nWeiteres Angebot:\n  \nNADI -YOGA DER 5 ELEMENTE\n»AYURVEDISCHE HEILKRAFT« \n* Die 5 präzisen-elementaren Yoga-Zyklen und ihre Wirkung auf das Energiesystem \n* Die 5 Elemente und ihre Zuordnung zu den Organen und dem Meridiansystem \n*Aku-Punkte und ihre Heilkraft zur Steigerung des Energiestromes \n* Meditative Stille & Einheitsgefühl \n* Ayurveda – Lebenskunde im Alltag (Swasta Vritti) \n* Thalodal – Ayurvedische Rückenmassage mit Heilölen \n* Ernährungslehre (Anna Vijnana) & Konstitutionsmittel \nDieses Seminar ist ausdrücklich auch für Menschen mit körperlichen Beeinträchtigungen geeignet. \n  \nWochenendseminar Beginn Freitag 18.00 Uhr / Ende: Sonntag 12.30 Uhr \nHonorar: 180\,00 € (incl. Unterrichtsmanual)\, zzgl. Übernachtung/ Verpflegung \n  \nTermine für dieses und weitere Angebote (auch für Gruppen) nach Vereinbarung
URL:https://hofgutleo.de/event/marma-abhyanga-wirbelsaeulen-2/2026-05-01/
CATEGORIES:Gesundheit
ATTACH;FMTTYPE=image/png:https://hofgutleo.de/wp-content/uploads/2024/07/Pasted-Graphic-1.png
END:VEVENT
BEGIN:VEVENT
DTSTART;VALUE=DATE:20260506
DTEND;VALUE=DATE:20260507
DTSTAMP:20260420T173356
CREATED:20260419T123529Z
LAST-MODIFIED:20260419T124008Z
UID:10003171-1778025600-1778111999@hofgutleo.de
SUMMARY:Aktionstag Zukunft.Raum.Schwarzwald
DESCRIPTION:Am Mittwoch\, 06. Mai 2026 laden die Zukunft.Räume im Schwarzwald zum gemeinsamen Aktionstag rund um Coworking\, Innovation und neue Arbeitswelten ein. Von 9:00 bis 16:00 Uhr öffnen mehrere Zukunft.Räume in der Region ihre Türen und geben Einblicke in moderne Arbeitsumgebungen\, kreative Netzwerke und regionale Innovationsorte. \nBesucherinnen und Besucher erwartet ein vielfältiges Programm: kostenfreies oder ermäßigtes Coworking\, Führungen durch die Räume\, Community-Formate sowie Möglichkeiten zum Austausch mit Unternehmen\, Gründerinnen und Gründern sowie kreativen Köpfen aus der Region. \nDer Aktionstag zeigt\, wie Coworking im Schwarzwald funktioniert und welche Rolle die Zukunft.Räume als Orte für Innovation\, Zusammenarbeit und neue Arbeitsformen spielen. \nEntdeckt die teilnehmenden Zukunft.Räume und ihre Programme. \nAktionstag | Zukunft.Raum.Schwarzwald
URL:https://hofgutleo.de/event/aktionstag-zukunft-raum-schwarzwald/
CATEGORIES:Akademie,Genossenschaft,Gesundheit,Kulinarik,Kultur,Musik,Natur
ATTACH;FMTTYPE=image/png:https://hofgutleo.de/wp-content/uploads/2026/04/zrs-logo-rbg.png
END:VEVENT
BEGIN:VEVENT
DTSTART;TZID=Europe/Berlin:20260508T110000
DTEND;TZID=Europe/Berlin:20260508T150000
DTSTAMP:20260420T173356
CREATED:20250630T074731Z
LAST-MODIFIED:20250707T040449Z
UID:10002615-1778238000-1778252400@hofgutleo.de
SUMMARY:KLANG-ERFAHRUNG  hautnah jeden 2. Freitag des Monats
DESCRIPTION:KLANG-ERFAHRUNG \n  \nMeine speziellen Frequenzen bringen blockierte Energien im Körper wieder in Fluss. \n  \nDie Welt ist Klang. Unsere Körper bestehen zu rund 70% aus Wasser – einem optimalen Schwingungsmedium – und ein wunderbarer Indikator um sichtbar zu machen\, an welcher Stelle etwas aus unserer Ur-Schwingung geraten ist.\n💫 Du fühlst dich erstarrt – körperlich\, geistig\, seelisch? Meine einHerTz-Klänge bewirken eine unmittelbare Entspannung. \n  \n💫Du hängst im Gedankenkarussell – was wäre\, wenn? Tauche ein in das heilsame Energiefeld der einHerTz-Klänge und durchbreche die Grübelspirale. \n  \nAktiviere Deine körperlichen\, geistigen und seelischen Selbstheilungskräfte durch eine Klangsession. \nDie einzigartigen einHertz-Klänge erreichen Dich auf einer unbewussten Ebene. Die eigens dafür entwickelten Klanginstrumente „sprechen“ über Klangstäbe aus Metall und Kristall\, Röhrenglocken\, WahWahPipes und Gongs. Ihre entspannenden und transformierenden Frequenzen\nwirken auf verschiedenen Ebenen:  \n💫 Die Klänge öffnen einen Klangraum und führen Dich in die STILLE. Die Stille zwischen dem Klang. In diesem Raum spürst Du Deinen Körper und fühlst\, was wirklich wesentlich ist. Dadurch kommt Dein Geist zur Ruhe und entspannt sich. \n💫 Die einHerTz-Frequenzen unterstützen dich\, aus dem täglichen Gedankenkarussell auszusteigen und öffnen den Zugang zu Deinen Innenwelten. Mit Dir selbst verbunden kannst Du Dich leichter auf Deine inneren Prozesse einlassen – wenn die Zeit dafür reif ist und Du dafür bereit bist. \n💫 Die einHerTz-Klänge geben Körper\, Geist und Seele Heilimpulse\, und intensivieren und beschleunigen auf allen drei Ebenen Deine nächsten Entwicklungsschritte.  \n  \nTauche in die heilsamen einHerTz-Frequenzen ein und genieße die regenerative Entspannung. \nDie 13 Metallklangstäbe werden auf die 13 Hauptgelenke des bekleideten Körpers aufgelegt und zum Erklingen gebracht. Der 14. Ton – der Herzton – liegt dabei in der Nähe des Kopfes. Unterstützt wird die KlangErfahrung durch WahWah Pipes und Kristallklangstäbe sowie die Röhrenglocke C 128 Hz. Diese kann speziell zum Lösen von Verspannung im Rückenbereich eingesetzt werden. \nDie KlangErfahrung dauert 60 Minuten und umfasst ein Vorgespräch\, die Anwendung\, eine Ruhezeit sowie ein Nachgespräch. Eine Schnupper“stunde“ von 30 min kann zum Kennenlernen einmalig im Hofgut LEO gebucht werden. \n  \nDeine Investition in Dich: 125 € für 60 min.\, Schnupper“stunde“ 62 € für 30 min \n  \nTermine im Hofgut LEO: in der Regel jeden 2. Freitag im Monat zwischen 11 und 15 Uhr sowie nach Vereinbarung. Eine verbindliche Buchung ist erforderlich und sollte mindestens 48 h vorher erfolgt sein. \n  \nSchenke Dir eine KlangErfahrung hautnah.  \n  \nGehst Du in Resonanz?\nDann schaue nach dem nächsten freien Termin in meinem Kalender oder nimm direkt mit mir Kontakt per email auf….. BUTTON https://einhertz-klaenge.gmbh/kontakt/   \n  \nTermine im Hofgut LEO: in der Regel jeden 2. Freitag im Monat zwischen 11 und 15 Uhr sowie nach Vereinbarung. Eine verbindliche Buchung ist erforderlich und sollte mindestens 48 h vorher erfolgt sein. \n  \nLausche dem Klang Deines Herzens und folge ihm…
URL:https://hofgutleo.de/event/klang-erlebnis-2/2026-05-08/
CATEGORIES:Gesundheit,Musik
ATTACH;FMTTYPE=image/jpeg:https://hofgutleo.de/wp-content/uploads/2025/06/photo_2025-07-02_11-38-59.jpg
END:VEVENT
BEGIN:VEVENT
DTSTART;TZID=Europe/Berlin:20260510T150000
DTEND;TZID=Europe/Berlin:20260510T180000
DTSTAMP:20260420T173356
CREATED:20260420T073326Z
LAST-MODIFIED:20260420T073326Z
UID:10003172-1778425200-1778436000@hofgutleo.de
SUMMARY:RebelLEOn jetzt rebelLEO
DESCRIPTION:Mit Musik die Welt verändern… Die Stammbesetzung der Musikerjamsession\nstellt sich vor. \nBen Meech\, Musiklehrer und Mentor\, und Peter Reimtgut\, Sozialarbeiter\nund Hiphopgröße auf engstem Raum. \nDie beiden Musiker erzählen in ihren Liedern von Liebe\, Hoffnung und\nFrieden. Man kann schon beim zuhören erahnen\, dass es nicht nur Worte\nsind\, sondern dass immer Überzeugung und selbst durchlebtes Gefühl\nmitschwingen. Aber wo kommt ihr Selbstverständnis her? Wo treffen Liebe\nzur Musik und ein Herz für ihre Mitmenschen zusammen?…
URL:https://hofgutleo.de/event/rebelleon-jetzt-rebelleo/
CATEGORIES:Kulinarik,Kultur,Musik
ATTACH;FMTTYPE=image/jpeg:https://hofgutleo.de/wp-content/uploads/2026/04/rebelleon-17.jpg
END:VEVENT
BEGIN:VEVENT
DTSTART;TZID=Europe/Berlin:20260512T190000
DTEND;TZID=Europe/Berlin:20260512T203000
DTSTAMP:20260420T173356
CREATED:20251126T101119Z
LAST-MODIFIED:20251126T101200Z
UID:10002970-1778612400-1778617800@hofgutleo.de
SUMMARY:Meditationskurs "Mit Pflanzen verbunden" mit Melanie
DESCRIPTION:Mit Pflanzen verbunden: Meditationen\, Pflanzenbegegnung & Seelenreisen. \n  \nJede Pflanze trägt eine Botschaft für die Seele & lädt dich ein\, deinen eigenen Weg zu gehen. \n  \nIch bin Melanie (Pflanzenbotschafterin\, Naturpädagogin & Weg- Begleiterin) und ich lade dich ein in meinem besonderen Meditationskurs die Pflanzen auf einer achtsamen Ebene neu zu entdecken und dich von der Natur erinnern zu lassen\, wer du wirklich bist. \n  \nMeditativ & naturspirituell tauchen wir ein in die heilsame Verbindung mit der Pflanzenwelt – draußen unter alten Linden oder im gemütlichen Seminarraum des Hofgut LEO. \nJede Kurseinheit wird begleitet von der Magie & Kraft einer einzelnen Pflanze. Du lernst die Pflanzenseele kennen\, erfährst Spannendes über ihre Heilwirkung und Botschaft\, und wirst durch geführte Meditationen und naturspirituelle Impulse begleitet. \nWas dich erwartet: \n\nGeführte Meditationen & Pflanzenbegegnungen\nImpulse zur Heilwirkung & seelischen Botschaft\nSchamanisches Trommeln & Seelenreisen\nRaum für persönliche Erfahrungen und Reflexion\nDu lernst in jeder Kurseinheit eine bestimmte Pflanze kennen\n\n  \nEs ist kein geschlossener Kurs\, sondern eine offene Meditationsstunde. Das bedeutet\, dass du dich für jeden Termin separat anmelden darfst. \nDu gehst also keine Verpflichtung ein. \n  \nWann?: Jeden 2. Dienstag des Monats ab19:00 Uhr \n  \nWo?: im Hofgut LEO\, Gresgen 40\, 79669 Gresgen \n  \nEnergieausgleich: Spendenbasis (Du gibst das\, was sich für Dich stimmig anfühlt.) \n  \nAnmeldung: \nPer E-Mail: melanie@naturseelenweg.de \noder direkt über meine Website: \nhttps://naturseelenweg.de/meditationen/ \n 
URL:https://hofgutleo.de/event/meditation-mit-melanie/2026-05-12/
CATEGORIES:Gesundheit,Kultur
ATTACH;FMTTYPE=image/jpeg:https://hofgutleo.de/wp-content/uploads/2025/09/photo_2025-09-02_10-21-04.jpg
END:VEVENT
BEGIN:VEVENT
DTSTART;TZID=Europe/Berlin:20260514T193000
DTEND;TZID=Europe/Berlin:20260514T223000
DTSTAMP:20260420T173356
CREATED:20260409T155948Z
LAST-MODIFIED:20260409T155949Z
UID:10003109-1778787000-1778797800@hofgutleo.de
SUMMARY:LEO Musiker JAM und Stammtisch
DESCRIPTION:Musiker JAM & Stammtisch – Jeden 2. Donnerstag im Monat \nJeden zweiten Donnerstag im Monat verwandelt sich das Hofgut in einen Ort für Musikliebhaber. Von spontanen Mini-Konzerten\, Austausch über Musik bei einem guten Glas Wein\, über das Entdecken des eigenen musikalischen Talents oder das Genießen der mitreißenden Klänge. Bei den legendären Jam-Sessions im Hofgut LEO sind alle willkommen\, die Lust auf Musik haben. \n  \nDa der Musiker JAM spontan aus dem Moment heraus entsteht\, können wir keine festen Konzerte versprechen. Manchmal trifft man sich einfach auf ein Bier und spricht über Musik. Auch spontane Karaoke-Einlagen oder einfach das Genießen regionaler Spezialitäten sind möglich. Es geht um Freude\, Austausch und gemeinsame Zeit mit netten Menschen – nicht um Perfektion oder Programm. \n  \nWas erwartet Dich? \n\nSpontanes Musizieren: Musiker aus der Region treffen sich\, um gemeinsam zu jammen – ganz ohne festen Ablauf\, dafür mit umso mehr Gefühl und Intuition.\nOpen Jam Sessions: Bühne frei für alle\, die Lust haben\, sich musikalisch auszuprobieren – ob mit Stimme\, Instrument oder beidem.\nMitmachen ist erwünscht: Mitsingen\, Mitgrooven\, Mitfühlen – wer möchte\, wird Teil des musikalischen Geschehens.\nStammtisch: Fachsimpeln\, Quatschen über Musik und was dich sonst gerade so bewegt\nKleine Snacks & Spezialitäten aus unserer Küche\n\n  \nEintritt frei\, die Musiker freuen sich über eine kleine Hutspende. \nKomm vorbei\, bring dein Instrument oder einfach gute Laune mit – wir freuen uns auf dich!
URL:https://hofgutleo.de/event/musiker-jam_stammtisch-2-2-2/2026-05-14/
LOCATION:Hofgut Leo\, Gresgen 40\, Zell im Wiesental\, Baden-Württemberg\, 79669\, Deutschland
CATEGORIES:Kulinarik,Kultur,Musik
ATTACH;FMTTYPE=image/jpeg:https://hofgutleo.de/wp-content/uploads/2025/11/Musiker-Jam-09.25-3.jpg
END:VEVENT
BEGIN:VEVENT
DTSTART;TZID=Europe/Berlin:20260515T110000
DTEND;TZID=Europe/Berlin:20260515T180000
DTSTAMP:20260420T173356
CREATED:20251111T114952Z
LAST-MODIFIED:20251111T115925Z
UID:10002912-1778842800-1778868000@hofgutleo.de
SUMMARY:Einzeltermine: Coaching\, Beratung & Heilarbeit mit Pflanzen
DESCRIPTION:Ab November jeden 3. Freitag im Monat Einzeltermine mit Melanie Fuchs im Hofgut LEO: Coaching & Heilarbeit mit Pflanzen (Begleitung auf deinem Seelenweg) \n  \nIch öffne dir den Raum\, in dem Pflanzen dich erinnern\, wer du wirklich bist. (Melanie Fuchs) \n  \n  \nIn einem liebevoll gehaltenen Raum begleitet dich Melanie gemeinsam mit den Pflanzen auf deinem persönlichen Naturseelen-Weg – zurück zu deiner inneren Kraft\, deiner Ur-Essenz und deiner Verbindung zur Natur. \nDie Pflanzen werden als beseelte Wesen betrachtet\, die mit ihrer Weisheit und Energie tiefgreifende Heilungsprozesse auf körperlicher\, seelischer und spiritueller Ebene anstoßen können. \n  \nMelanie beschreibt ihre Arbeit mit folgenden Worten: \nIn meiner Arbeit mit der Heilkraft der Pflanzenseelen (feinstoffliche Pflanzenheilkunde\, Pflanzengeist-Heilung\, Pflanzenschamanismus) geht es um die tiefe Verbindung zwischen Mensch und Pflanze – einer Beziehung\, die weit über das Physische hinausgeht. Pflanzen sind nicht nur Heilmittel für den Körper\, sondern auch kraftvolle Begleiter auf emotionaler\, energetischer und spiritueller Ebene. Ich arbeite neben der klassischen Heilpflanzenkunde auch mit der feinstofflichen und spirituellen Kraft der Pflanzen\, um Menschen auf ihrem persönlichen Heilungsweg zu begleiten. \nDurch Pflanzenessenzen\, energetisches Arbeiten mit dem Geist der Pflanze\, Pflanzenmeditation oder die direkte Begegnung mit einer Pflanze in der Natur öffne ich ein Feld\, in dem die feinstofflichen Aspekte der Pflanzen erfahrbar werden. \n Jede Pflanze besitzt eine einzigartige energetische Signatur\, eine Seele\, besondere Eigenschaften und Fähigkeiten – und wenn wir uns bewusst mit ihr verbinden\, können wir diese entdecken und in unser Leben integrieren. Die bewusste Verbindung mit diesen Pflanzenwesen\, kann helfen Blockaden zu lösen\, innere Klarheit zu gewinnen und tiefe Heilungsprozesse anzustoßen. \n  \n  \nFür die 1:1 Session sind folgende Inhalte möglich: \n  \n\nImpulse und Gespräche\nPflanzenbegegnungen u. Meditationen\ndas Liegen auf einer Behandlungsliege\, während ich durch energetische Techniken deine Energiezentren harmonisiere\nKlassische Massage\nAuswahl & Zusammenstellen von Pflanzenessenzen\nKlang (Trommel\, Rassel\, Stimme\, etc.)\, Räucherung und energetische Impulse\nAchtsamkeits-\, Wahrnehmungs- und Coaching-Übungen\nInformationen zum Einsatz der Heilpflanzen\nManchmal gehen wir auch nach draußen in den LEO Garten\, um einen intensiveren Kontakt zum Pflanzenwesen herstellen zu können\n\n  \n  \nBei diesen Themen kann die Heilarbeit helfen: \n\nBlockaden zu lösen und Selbstheilungskräfte zu aktivieren\ninnere Klarheit zu gewinnen und emotionale Themen zu wandeln\nVerbindung zur eigenen Naturseele – Rückverbindung zur inneren u. äußeren Natur\nProzessbegleitung als Brückenbauerin in die „Neue Zeit“\nStärkung des inneren Gleichgewichts (z. B. Balance von Nervensystem und Energiezentren)\nbei körperlichen Beschwerden für die es keine Antworten gibt\nThemen & Ängste\, die dich mental oder emotional beschäftigen und dir dein Leben erschweren\n\n  \n  \nDie Begleitung ist individuell\, intuitiv und achtsam – abgestimmt auf deine aktuellen Bedürfnisse. Bitte plane nach der Session ausreichend Ruhe und Integrationszeit ein. \n  \nTermine: jeden 3. Freitag im Monat\, zwischen 11–18 Uhr \nAuch andere Termine an anderen Tagen sind ebenfalls nach Vereinbarung möglich. \nOrt: Hofgut LEO\, Massageraum und LEO Garten \n  \nDauer: ca. 90 Minuten  \nEnergieausgleich: 130\,- € \nTerminvereinbarung: verbindlich bis 48 h vorher \n  \nWeitere Infos sind auch hier zu finden: www.naturseelenweg.de \n  \nTerminvereinbarung & Kontakt: über Melanie Fuchs \nper E-Mail (melanie@naturseelenweg.de) oder telefonisch  +49 159-06396086 \n  \n  \n Naturseelen-Weg: Verbunden eigene Wege gehen… mit & in der Natur \n  \nMelanie Fuchs  \nCoaching\, Beratung\, Heilarbeit & Naturschule \nLuisenhof\, Gresgen 155\, 79669 Zell im Wiesental \n  +49 159-06396086 \nmelanie@naturseelenweg.de \nwww.naturseelenweg.de
URL:https://hofgutleo.de/event/einzeltermine_heilarbeit-mit-pflanzen/2026-05-15/
CATEGORIES:Gesundheit,Natur
ATTACH;FMTTYPE=image/jpeg:https://hofgutleo.de/wp-content/uploads/2025/11/Startseite-Melanie-Portrait-Baum-Blume-Natur-19.jpg
END:VEVENT
BEGIN:VEVENT
DTSTART;TZID=Europe/Berlin:20260517T160000
DTEND;TZID=Europe/Berlin:20260517T173000
DTSTAMP:20260420T173356
CREATED:20260420T074847Z
LAST-MODIFIED:20260420T074847Z
UID:10003173-1779033600-1779039000@hofgutleo.de
SUMMARY:KlangErlebnis im Sonnenraum\, mit Petra Ruth Metz
DESCRIPTION:
URL:https://hofgutleo.de/event/klangerlebnis-im-sonnenraum-mit-petra-ruth-metz/
CATEGORIES:Gesundheit,Kulinarik,Kultur,Musik
ATTACH;FMTTYPE=image/jpeg:https://hofgutleo.de/wp-content/uploads/2026/04/rebelleon-18.jpg
END:VEVENT
BEGIN:VEVENT
DTSTART;TZID=Europe/Berlin:20260521T200000
DTEND;TZID=Europe/Berlin:20260521T220000
DTSTAMP:20260420T173356
CREATED:20260419T111514Z
LAST-MODIFIED:20260419T111642Z
UID:10003169-1779393600-1779400800@hofgutleo.de
SUMMARY:Vortrag - Giovanni Stocker
DESCRIPTION:Entdecke dein unbegrenztes\, schöpferisches Potential\nWesentlich leben ist der Schlüssel zum Glück und Wohlbefinden\nFehlt dir manchmal etwas Würze in deinem Leben?\nVermisst du von Herzen lachen zu können?\nIst dein Leben etwas eingefahren oder „normal“ geworden?\n\nGlücklich sein heisst „nicht alles zu haben“ und nach Möglichkeit mit wenig Aufwand grossen Erfolg zu erreichen. Wir glauben\, dass ein sicheres problemloses Leben ein gutes Leben ist in dem alles geordnet vonstatten geht. \nDas ist aber nicht dasselbe\, wie sich intensiv zu freuen und glücklich zu sein. Wenn man Glück in sein Leben bringen möchte\, muss man sich darüber im klaren sein und das Glück auch suchen – „also finden“. Zudem sollte man begreifen glücklich sein ist ein Zustand der Entsprechung: all das\, was mich umgibt\, was ich intensiv erlebe\, was ich im Leben bewege\, was mir begegnet\, entspricht meinem tiefsten Inneren. \nIn diesem Seminar möchten wir dir zeigen\, wonach wir in unserem Leben suchen sollten wenn wir das Glück finden möchten. Begeistert durch unser Leben gehen\, das wir führen\, berührt werden in unserem Herzen und unser Wesen wieder spüren und leben können.
URL:https://hofgutleo.de/event/vortrag-giovanni-stocker/
CATEGORIES:Akademie,Genossenschaft,Gesundheit,Kulinarik,Kultur
ATTACH;FMTTYPE=image/jpeg:https://hofgutleo.de/wp-content/uploads/2026/03/unbegrezt_schoepf_potential.jpg
END:VEVENT
BEGIN:VEVENT
DTSTART;TZID=Europe/Berlin:20260522T170000
DTEND;TZID=Europe/Berlin:20260524T160000
DTSTAMP:20260420T173356
CREATED:20260330T133031Z
LAST-MODIFIED:20260330T133031Z
UID:10003105-1779469200-1779638400@hofgutleo.de
SUMMARY:Seminar mit Giovanni Stocker - Entdecke Dein unbegrenztes\, schöpferisches Potential
DESCRIPTION:Wesentlich leben ist der Schlüssel zum Glück und Wohlbefinden\n\nFehlt Dir manchmal etwas Würze in Deinem Leben?Vermisst du von Herzen lachen zu können?Ist Dein Leben etwas eingefahren oder „normal“ geworden?\n\nGlücklich sein heisst „nicht alles zu haben“ und nach Möglichkeit mit wenig Aufwand grossen Erfolg zu erreichen. Wir glauben\, dass ein sicheres problemloses Leben ein gutes Leben ist in dem alles geordnet vonstatten geht. \nDas ist aber nicht dasselbe\, wie sich intensiv zu freuen und glücklich zu sein. Wenn man Glück in sein Leben bringen möchte\, muss man sich darüber im klaren sein und das Glück auch suchen – „also finden“. Zudem sollte man begreifen glücklich sein ist ein Zustand der Entsprechung: all das was mich umgibt\, was ich intensiv erlebe\, was ich im Leben bewege\, was mir begegnet\, entspricht meinem tiefsten Inneren. \nIn diesem Seminar möchten wir Ihnen zeigen wonach wir in unserem Leben suchen sollten wenn wir das Glück finden möchten. Begeistert durch unser Leben gehen das wir führen\, berührt werden in unserem Herzen und unser Wesen wieder spüren und Leben können. \n\n\nhttps://www.giovanni.li/veranstaltungen/seminare/entdecke-dein-unbegrenztes-schoepferisches-potential
URL:https://hofgutleo.de/event/seminar-mit-giovanni-stocker-entdecke-dein-unbegrenztes-schoepferisches-potential/
CATEGORIES:Genossenschaft,Gesundheit,Kulinarik,Kultur,Musik,Natur
ATTACH;FMTTYPE=image/jpeg:https://hofgutleo.de/wp-content/uploads/2026/03/unbegrezt_schoepf_potential.jpg
END:VEVENT
BEGIN:VEVENT
DTSTART;TZID=Europe/Berlin:20260531T153000
DTEND;TZID=Europe/Berlin:20260531T173000
DTSTAMP:20260420T173356
CREATED:20260419T123148Z
LAST-MODIFIED:20260419T123148Z
UID:10003170-1780241400-1780248600@hofgutleo.de
SUMMARY:Nei-Kung im Sonnenraum mit Rolff Peter Adam
DESCRIPTION:Taoistische Körperkultur \n„NEI-KUNG\, Das Gesundheitstraining für ein langes Leben!\nReferent: Rollf Peter Adam\, Dr.Ac.\, PhD.\,\nBadenweiler/Olten (CH) www.samadhana.com\nNEI-KUNG\, das innere Ki-GONG gehört zu den ältesten\nasiatischen Lebenskünsten und Übungssystemen. In ihrer\nEntwicklung sind Weisheit\, Erfahrung und Wissenschaft der\ntaoistischen Körperkultur enthalten. Viele Krankheiten\nentstehen\, wenn die Lebensenergie „KI“ nicht mehr frei durch\ndie Meridiane fließen kann.- Durch das Üben von „NEI\nKUNG“ kann diese Energie wieder frei durch den Körper\nströmen\, was auch ein wunderbares Behandlungsprogramm\ndarstellt. Alle physischen Elemente werden dadurch im Körper\nintegriert und gestärkt! Der ganze Körper erhält sich durch die\nSequenzen des „Nei-Kung“ bis ins hohe Alter seine Elastizität\nund Jugendlichkeit! \nHofgut LEO Cooperative eG. Gresgen 40\,\nD-79669 Zell im Wiesental. \nSonntag\, 31. Mai 2026\,\nZeitraum 15.30 – 17.30 Uhr \n36\,00 € incl. Nei-Kung-Unterlagen \nAnm. & Info: Hofgut LEO\, Tel. 07625/396\,\nemail: hallo@hofgutleo.de \nReferent:\nR.P. Adam\, Tel. 0171/28.42.127\,\nemail: adam@samadhana.com
URL:https://hofgutleo.de/event/nei-kung-im-sonnenraum-mit-rolff-peter-adam/
CATEGORIES:Genossenschaft,Gesundheit,Kultur,Natur
ATTACH;FMTTYPE=image/png:https://hofgutleo.de/wp-content/uploads/2024/07/Pasted-Graphic-1.png
END:VEVENT
END:VCALENDAR