BEGIN:VCALENDAR
VERSION:2.0
PRODID:-//Hofgut Leo - ECPv6.15.20//NONSGML v1.0//EN
CALSCALE:GREGORIAN
METHOD:PUBLISH
X-WR-CALNAME:Hofgut Leo
X-ORIGINAL-URL:https://hofgutleo.de
X-WR-CALDESC:Veranstaltungen für Hofgut Leo
REFRESH-INTERVAL;VALUE=DURATION:PT1H
X-Robots-Tag:noindex
X-PUBLISHED-TTL:PT1H
BEGIN:VTIMEZONE
TZID:Europe/Berlin
BEGIN:DAYLIGHT
TZOFFSETFROM:+0100
TZOFFSETTO:+0200
TZNAME:CEST
DTSTART:20250330T010000
END:DAYLIGHT
BEGIN:STANDARD
TZOFFSETFROM:+0200
TZOFFSETTO:+0100
TZNAME:CET
DTSTART:20251026T010000
END:STANDARD
BEGIN:DAYLIGHT
TZOFFSETFROM:+0100
TZOFFSETTO:+0200
TZNAME:CEST
DTSTART:20260329T010000
END:DAYLIGHT
BEGIN:STANDARD
TZOFFSETFROM:+0200
TZOFFSETTO:+0100
TZNAME:CET
DTSTART:20261025T010000
END:STANDARD
BEGIN:DAYLIGHT
TZOFFSETFROM:+0100
TZOFFSETTO:+0200
TZNAME:CEST
DTSTART:20270328T010000
END:DAYLIGHT
BEGIN:STANDARD
TZOFFSETFROM:+0200
TZOFFSETTO:+0100
TZNAME:CET
DTSTART:20271031T010000
END:STANDARD
END:VTIMEZONE
BEGIN:VEVENT
DTSTART;TZID=Europe/Berlin:20261016T170000
DTEND;TZID=Europe/Berlin:20261018T160000
DTSTAMP:20260421T025334
CREATED:20260330T133447Z
LAST-MODIFIED:20260330T133447Z
UID:10003107-1792170000-1792339200@hofgutleo.de
SUMMARY:Seminar mit Giovanni Stocker - Erinnere die Melodie Deines Herzens
DESCRIPTION:Alles ist möglich\, wenn Du den Weg Deines Herzens gehst\n\nHast Du Zugang zu Deinem Herzen?Bist Du friedlich in jedem Aspekt deines Seins?Hörst und verstehst Du die Stimme Deines Herzens?\n\nn diesem Seminar lernen wir wieder bewussten Zugang zu unserer grösseren Dimension des Seins\, zu unserer Seele\, zu finden. Wir öffnen unsere Herzen um die Botschaft der Seele wieder hörbar zu machen. Unsere Seele kann uns sagen\, was unsere Bestimmung ist\, wie wir Heilung unserer Gefühle\, Gedanken und unseres Körpers erreichen können. Durch unsere Seele gewinnen wir unser Vertrauen in die Führung des göttlichen Seins wieder zurück. \nWir fühlen uns erfüllt von einer tiefen Gewissheit\, dass alles GUT ist und alles in unserem Leben eine natürliche Entwicklung findet – wenn wir dies zulassen. Wir empfinden ganz tief: „Alles ist gut“.Wir sind mehr als unser Körper\, wir sind Bewusstsein\, unbegrenzt\, ewig und frei\, entsprungen aus einer grösseren Dimension\, die wir unsere Seele nennen und über die wir eingebunden sind in den grossen göttlichen Urgrund. \nWir lernen in praktischen Übungen\, Abstand von den geschichtlichen Gedanken und Gefühlen zu gewinnen. Dadurch können wir wieder Zugang zu all unserem Potential bekommen und lernen es zu nutzen\, das heisst\, das Potential in uns zu verwirklichen\, was zu einem Leben in Leichtigkeit und Freude führt. \n\n\nhttps://www.giovanni.li/veranstaltungen/seminare/erinnere-die-melodie-deines-herzens
URL:https://hofgutleo.de/event/seminar-mit-giovanni-stocker-erinnere-die-melodie-deines-herzens/
CATEGORIES:Genossenschaft,Gesundheit,Kulinarik,Kultur,Musik,Natur
ATTACH;FMTTYPE=image/jpeg:https://hofgutleo.de/wp-content/uploads/2026/03/erinnere_d_Melodie_d_Herzens.jpg
END:VEVENT
END:VCALENDAR