BEGIN:VCALENDAR
VERSION:2.0
PRODID:-//Hofgut Leo - ECPv6.15.20//NONSGML v1.0//EN
CALSCALE:GREGORIAN
METHOD:PUBLISH
X-WR-CALNAME:Hofgut Leo
X-ORIGINAL-URL:https://hofgutleo.de
X-WR-CALDESC:Veranstaltungen für Hofgut Leo
REFRESH-INTERVAL;VALUE=DURATION:PT1H
X-Robots-Tag:noindex
X-PUBLISHED-TTL:PT1H
BEGIN:VTIMEZONE
TZID:Europe/Berlin
BEGIN:DAYLIGHT
TZOFFSETFROM:+0100
TZOFFSETTO:+0200
TZNAME:CEST
DTSTART:20250330T010000
END:DAYLIGHT
BEGIN:STANDARD
TZOFFSETFROM:+0200
TZOFFSETTO:+0100
TZNAME:CET
DTSTART:20251026T010000
END:STANDARD
BEGIN:DAYLIGHT
TZOFFSETFROM:+0100
TZOFFSETTO:+0200
TZNAME:CEST
DTSTART:20260329T010000
END:DAYLIGHT
BEGIN:STANDARD
TZOFFSETFROM:+0200
TZOFFSETTO:+0100
TZNAME:CET
DTSTART:20261025T010000
END:STANDARD
BEGIN:DAYLIGHT
TZOFFSETFROM:+0100
TZOFFSETTO:+0200
TZNAME:CEST
DTSTART:20270328T010000
END:DAYLIGHT
BEGIN:STANDARD
TZOFFSETFROM:+0200
TZOFFSETTO:+0100
TZNAME:CET
DTSTART:20271031T010000
END:STANDARD
END:VTIMEZONE
BEGIN:VEVENT
DTSTART;TZID=Europe/Berlin:20260925T170000
DTEND;TZID=Europe/Berlin:20260927T140000
DTSTAMP:20260421T012912
CREATED:20251209T101607Z
LAST-MODIFIED:20251209T101607Z
UID:10003030-1790355600-1790517600@hofgutleo.de
SUMMARY:Retreat: Die Reise zu Dir Selbst
DESCRIPTION:Wird es Zeit für eine Veränderung? Möchtest du dich (wieder) in der Tiefe spüren\, dich lebendig fühlen oder einen Mutsprung\, hin zu dir selbst\, machen? \nDann ist diese Einladung für Dich. An vier Terminen (die auch einzeln buchbar sind)\, kannst Du in einer kleinen Gruppe\, im wunderbaren Hofgut LEO\, deine kraftvollen Schritte auf der Reise zu dir selbst gehen. \nBuchung und weitere Informationen: \nClaudia 0049 (0) 175 22 22 677  (auch Signal\, Telegram oder WhatsApp). mail@claudia-walcher.de oder im kostenlosen Online Meeting am  17.01.2026 um 16:00 Uhr  \nBis bald\, wir freuen uns auf dich!
URL:https://hofgutleo.de/event/retreat-die-reise-zu-dir-selbst/2026-09-25/
ATTACH;FMTTYPE=image/jpeg:https://hofgutleo.de/wp-content/uploads/2024/09/5361655809198646938_121.jpg
END:VEVENT
BEGIN:VEVENT
DTSTART;TZID=Europe/Berlin:20260925T170000
DTEND;TZID=Europe/Berlin:20260927T160000
DTSTAMP:20260421T012912
CREATED:20260330T133252Z
LAST-MODIFIED:20260330T133252Z
UID:10003106-1790355600-1790524800@hofgutleo.de
SUMMARY:Seminar mit Giovanni Stocker - Lass Dich von Deiner Sehnsucht leiten
DESCRIPTION:Nutze deine Sehnsucht als Wegweiser zu deinem Herzen\n\nWelche Sehnsüchte hast Du?Glaubst Du deine Sehnsüchte erfüllen zu können?Hast Du echte Freude und bist Du begeistert von Dir?\nOftmals werden unsere schöpferischen Energien geschwächt oder gar zerstört – durch unsere Ängste\, Zweifel und Wut. Die Schöpferkräfte kommen nicht richtig zur Entfaltung\, weil wir uns in unterschiedlichsten persönlichen oder äusseren Abhängigkeiten fangen lassen. \n\nIn diesem Seminar lernen wir\, solche hemmenden Sichtweisen über uns selbst und über die verschiedenen Aspekte der Welt zu durchschauen. Dadurch können wir unser Leben wirksam verändern und aktiv gestalten. In jedem Bereich der Wirklichkeit lassen wir das erfolgen\, was wir uns wünschen. Ausserdem ziehen wir alles an\, was zu unserem Lebensstil und zu unserem Lebensziel passt. \nDas Geheimniss Deines Lebens erkennst Du in Deinen Sehnsüchten wenn Du SIE zu lesen weisst und SIE erkennst. \nSo schaffen wir die Basis für ein erfolgreiches Leben das Dich im Herzen berührt und Dich begeistert.  \n\n\nhttps://www.giovanni.li/veranstaltungen/seminare/lass-dich-von-deiner-sehnsucht-leiten
URL:https://hofgutleo.de/event/seminar-mit-giovanni-stocker-lass-dich-von-deiner-sehnsucht-leiten/
CATEGORIES:Genossenschaft,Gesundheit,Kulinarik,Kultur,Musik,Natur
ATTACH;FMTTYPE=image/jpeg:https://hofgutleo.de/wp-content/uploads/2026/03/heile_dein_Herz_hasenboedeli.jpg
END:VEVENT
END:VCALENDAR