BEGIN:VCALENDAR
VERSION:2.0
PRODID:-//Hofgut Leo - ECPv6.15.20//NONSGML v1.0//EN
CALSCALE:GREGORIAN
METHOD:PUBLISH
X-ORIGINAL-URL:https://hofgutleo.de
X-WR-CALDESC:Veranstaltungen für Hofgut Leo
REFRESH-INTERVAL;VALUE=DURATION:PT1H
X-Robots-Tag:noindex
X-PUBLISHED-TTL:PT1H
BEGIN:VTIMEZONE
TZID:Europe/Berlin
BEGIN:DAYLIGHT
TZOFFSETFROM:+0100
TZOFFSETTO:+0200
TZNAME:CEST
DTSTART:20250330T010000
END:DAYLIGHT
BEGIN:STANDARD
TZOFFSETFROM:+0200
TZOFFSETTO:+0100
TZNAME:CET
DTSTART:20251026T010000
END:STANDARD
BEGIN:DAYLIGHT
TZOFFSETFROM:+0100
TZOFFSETTO:+0200
TZNAME:CEST
DTSTART:20260329T010000
END:DAYLIGHT
BEGIN:STANDARD
TZOFFSETFROM:+0200
TZOFFSETTO:+0100
TZNAME:CET
DTSTART:20261025T010000
END:STANDARD
BEGIN:DAYLIGHT
TZOFFSETFROM:+0100
TZOFFSETTO:+0200
TZNAME:CEST
DTSTART:20270328T010000
END:DAYLIGHT
BEGIN:STANDARD
TZOFFSETFROM:+0200
TZOFFSETTO:+0100
TZNAME:CET
DTSTART:20271031T010000
END:STANDARD
END:VTIMEZONE
BEGIN:VEVENT
DTSTART;TZID=Europe/Berlin:20260714T190000
DTEND;TZID=Europe/Berlin:20260714T203000
DTSTAMP:20260420T222234
CREATED:20251126T101119Z
LAST-MODIFIED:20251126T101200Z
UID:10002972-1784055600-1784061000@hofgutleo.de
SUMMARY:Meditationskurs "Mit Pflanzen verbunden" mit Melanie
DESCRIPTION:Mit Pflanzen verbunden: Meditationen\, Pflanzenbegegnung & Seelenreisen. \n  \nJede Pflanze trägt eine Botschaft für die Seele & lädt dich ein\, deinen eigenen Weg zu gehen. \n  \nIch bin Melanie (Pflanzenbotschafterin\, Naturpädagogin & Weg- Begleiterin) und ich lade dich ein in meinem besonderen Meditationskurs die Pflanzen auf einer achtsamen Ebene neu zu entdecken und dich von der Natur erinnern zu lassen\, wer du wirklich bist. \n  \nMeditativ & naturspirituell tauchen wir ein in die heilsame Verbindung mit der Pflanzenwelt – draußen unter alten Linden oder im gemütlichen Seminarraum des Hofgut LEO. \nJede Kurseinheit wird begleitet von der Magie & Kraft einer einzelnen Pflanze. Du lernst die Pflanzenseele kennen\, erfährst Spannendes über ihre Heilwirkung und Botschaft\, und wirst durch geführte Meditationen und naturspirituelle Impulse begleitet. \nWas dich erwartet: \n\nGeführte Meditationen & Pflanzenbegegnungen\nImpulse zur Heilwirkung & seelischen Botschaft\nSchamanisches Trommeln & Seelenreisen\nRaum für persönliche Erfahrungen und Reflexion\nDu lernst in jeder Kurseinheit eine bestimmte Pflanze kennen\n\n  \nEs ist kein geschlossener Kurs\, sondern eine offene Meditationsstunde. Das bedeutet\, dass du dich für jeden Termin separat anmelden darfst. \nDu gehst also keine Verpflichtung ein. \n  \nWann?: Jeden 2. Dienstag des Monats ab19:00 Uhr \n  \nWo?: im Hofgut LEO\, Gresgen 40\, 79669 Gresgen \n  \nEnergieausgleich: Spendenbasis (Du gibst das\, was sich für Dich stimmig anfühlt.) \n  \nAnmeldung: \nPer E-Mail: melanie@naturseelenweg.de \noder direkt über meine Website: \nhttps://naturseelenweg.de/meditationen/ \n 
URL:https://hofgutleo.de/event/meditation-mit-melanie/2026-07-14/
CATEGORIES:Gesundheit,Kultur
ATTACH;FMTTYPE=image/jpeg:https://hofgutleo.de/wp-content/uploads/2025/09/photo_2025-09-02_10-21-04.jpg
END:VEVENT
END:VCALENDAR