BEGIN:VCALENDAR
VERSION:2.0
PRODID:-//Hofgut Leo - ECPv6.15.20//NONSGML v1.0//EN
CALSCALE:GREGORIAN
METHOD:PUBLISH
X-ORIGINAL-URL:https://hofgutleo.de
X-WR-CALDESC:Veranstaltungen für Hofgut Leo
REFRESH-INTERVAL;VALUE=DURATION:PT1H
X-Robots-Tag:noindex
X-PUBLISHED-TTL:PT1H
BEGIN:VTIMEZONE
TZID:Europe/Berlin
BEGIN:DAYLIGHT
TZOFFSETFROM:+0100
TZOFFSETTO:+0200
TZNAME:CEST
DTSTART:20250330T010000
END:DAYLIGHT
BEGIN:STANDARD
TZOFFSETFROM:+0200
TZOFFSETTO:+0100
TZNAME:CET
DTSTART:20251026T010000
END:STANDARD
BEGIN:DAYLIGHT
TZOFFSETFROM:+0100
TZOFFSETTO:+0200
TZNAME:CEST
DTSTART:20260329T010000
END:DAYLIGHT
BEGIN:STANDARD
TZOFFSETFROM:+0200
TZOFFSETTO:+0100
TZNAME:CET
DTSTART:20261025T010000
END:STANDARD
BEGIN:DAYLIGHT
TZOFFSETFROM:+0100
TZOFFSETTO:+0200
TZNAME:CEST
DTSTART:20270328T010000
END:DAYLIGHT
BEGIN:STANDARD
TZOFFSETFROM:+0200
TZOFFSETTO:+0100
TZNAME:CET
DTSTART:20271031T010000
END:STANDARD
END:VTIMEZONE
BEGIN:VEVENT
DTSTART;TZID=Europe/Berlin:20260703T080000
DTEND;TZID=Europe/Berlin:20260710T170000
DTSTAMP:20260420T222017
CREATED:20251016T065452Z
LAST-MODIFIED:20251016T065538Z
UID:10002851-1783065600-1783702800@hofgutleo.de
SUMMARY:Süd Schwarzwald Retreat: Die Quelle des Lebens
DESCRIPTION:Intensive Retreat-Woche im wunderschönen Südschwarzwald mit Hatha und Yin Yoga\, Qi Gong\, Meditationen und Reflektionen und der Rückverbindung mit der Quelle in uns … mit Awen (Dani) Hornsteiner von Soul Shala \n  \nWir wollen inmitten der Natur\, umgeben von uralten lichtdurchfluteten und mit Moosen überwachsenen Wäldern\, von wunderschönen Bergwiesen und ausgedehnten Blicken in die Landschaft\, eintauchen in unsere eigene Natur\, in diese Kraft und Schönheit\, die in uns lebt. \nWir werden uns mit der heiligen Quelle\, die auf dem Grundstück ist und ihr Wasser über dieses Stück Land führt verbinden und darüber mit der Quelle in uns. \nGenieße die Kraft der Quelle\, des Wassers und der Natur\, das reichhaltige vegetarische Essen und die die Möglichkeit für schöne Wanderungen und altkeltischen Kraftorten. \n  \nIm Preis enthalten ist das komplette Programm\n  \n\nHatha Yoga am Morgen\nHatha und Yin Yoga am späten Nachmittag\nChant Circle\nReflektionsübungen\nBewusstseinsarbeit / Geistiges Reisen\nMeditationen im Garten\nKakao Zeremonie\n6 Übernachtungen EZ/DZ\nvegetarisch/vegane Halbpension mit 2 Mahlzeiten am Tag im Haus\nTees und Obst über den Tag\n\n  \nNicht enthalten im Preis ist deine Anreise\, Verzehr und Getränke im Hofgut Leo Café sowie alle anderen Ausgaben deines persönlichen Bedarfs. \nIch freue mich riesig auf diese Woche an diesem wunderschönen Ort mit leckerem vegetarisch/veganen Essen\, Zeit zum Ausruhen\, Zeit die Umgebung zu erkunden und mit 4 Stunden Bewusstseinsarbeit\, Yoga\, Pranayama und Meditation am Tag. \nPreis/Person:  \nPreis: ab 1.458€   I   Early Bird (EB) bis 10.1.26: ab 1.358€ \n\nEZ mit Gemeinschaftsbad – 1.458€   I   EB: 1.358€ – 3 Stk verfügbar\nEZ mit Dusche – 1.539€   I   EB: 1.439€ – 6 Stk verfügbar\nDZ mit Bad und WC – 1.485€   I   EB: 1.385€ – EZ-Zuschlag: 324€ – 2 Stk verfügbar\n\n  \nDeine Seminarleiterin: \nAwen (Dani) Hornsteiner \n  \nAlle Informationen & Anmeldung über den Link: \nhttps://soul-shala.com/die_quelle_des_lebens/ \n  \n\n\nSie sehen gerade einen Platzhalterinhalt von Standard. Um auf den eigentlichen Inhalt zuzugreifen\, klicken Sie auf den Button unten. Bitte beachten Sie\, dass dabei Daten an Drittanbieter weitergegeben werden. \n Inhalt entsperren Erforderlichen Service akzeptieren und Inhalte entsperren \n Weitere Informationen
URL:https://hofgutleo.de/event/sued-schwarzwald-retreat-die-quelle-des-lebens/
CATEGORIES:Gesundheit,Kultur
ATTACH;FMTTYPE=image/png:https://hofgutleo.de/wp-content/uploads/2025/10/csm_Dani-Villa_el_Morisco_2601a35f2c.png
END:VEVENT
END:VCALENDAR