BEGIN:VCALENDAR
VERSION:2.0
PRODID:-//Hofgut Leo - ECPv6.15.20//NONSGML v1.0//EN
CALSCALE:GREGORIAN
METHOD:PUBLISH
X-ORIGINAL-URL:https://hofgutleo.de
X-WR-CALDESC:Veranstaltungen für Hofgut Leo
REFRESH-INTERVAL;VALUE=DURATION:PT1H
X-Robots-Tag:noindex
X-PUBLISHED-TTL:PT1H
BEGIN:VTIMEZONE
TZID:Europe/Berlin
BEGIN:DAYLIGHT
TZOFFSETFROM:+0100
TZOFFSETTO:+0200
TZNAME:CEST
DTSTART:20250330T010000
END:DAYLIGHT
BEGIN:STANDARD
TZOFFSETFROM:+0200
TZOFFSETTO:+0100
TZNAME:CET
DTSTART:20251026T010000
END:STANDARD
BEGIN:DAYLIGHT
TZOFFSETFROM:+0100
TZOFFSETTO:+0200
TZNAME:CEST
DTSTART:20260329T010000
END:DAYLIGHT
BEGIN:STANDARD
TZOFFSETFROM:+0200
TZOFFSETTO:+0100
TZNAME:CET
DTSTART:20261025T010000
END:STANDARD
BEGIN:DAYLIGHT
TZOFFSETFROM:+0100
TZOFFSETTO:+0200
TZNAME:CEST
DTSTART:20270328T010000
END:DAYLIGHT
BEGIN:STANDARD
TZOFFSETFROM:+0200
TZOFFSETTO:+0100
TZNAME:CET
DTSTART:20271031T010000
END:STANDARD
END:VTIMEZONE
BEGIN:VEVENT
DTSTART;TZID=Europe/Berlin:20260605T170000
DTEND;TZID=Europe/Berlin:20260607T140000
DTSTAMP:20260420T203029
CREATED:20251209T101607Z
LAST-MODIFIED:20251209T101607Z
UID:10003029-1780678800-1780840800@hofgutleo.de
SUMMARY:Retreat: Die Reise zu Dir Selbst
DESCRIPTION:Wird es Zeit für eine Veränderung? Möchtest du dich (wieder) in der Tiefe spüren\, dich lebendig fühlen oder einen Mutsprung\, hin zu dir selbst\, machen? \nDann ist diese Einladung für Dich. An vier Terminen (die auch einzeln buchbar sind)\, kannst Du in einer kleinen Gruppe\, im wunderbaren Hofgut LEO\, deine kraftvollen Schritte auf der Reise zu dir selbst gehen. \nBuchung und weitere Informationen: \nClaudia 0049 (0) 175 22 22 677  (auch Signal\, Telegram oder WhatsApp). mail@claudia-walcher.de oder im kostenlosen Online Meeting am  17.01.2026 um 16:00 Uhr  \nBis bald\, wir freuen uns auf dich!
URL:https://hofgutleo.de/event/retreat-die-reise-zu-dir-selbst/2026-06-05/
ATTACH;FMTTYPE=image/jpeg:https://hofgutleo.de/wp-content/uploads/2024/09/5361655809198646938_121.jpg
END:VEVENT
END:VCALENDAR