BEGIN:VCALENDAR
VERSION:2.0
PRODID:-//Hofgut Leo - ECPv6.15.20//NONSGML v1.0//EN
CALSCALE:GREGORIAN
METHOD:PUBLISH
X-ORIGINAL-URL:https://hofgutleo.de
X-WR-CALDESC:Veranstaltungen für Hofgut Leo
REFRESH-INTERVAL;VALUE=DURATION:PT1H
X-Robots-Tag:noindex
X-PUBLISHED-TTL:PT1H
BEGIN:VTIMEZONE
TZID:Europe/Berlin
BEGIN:DAYLIGHT
TZOFFSETFROM:+0100
TZOFFSETTO:+0200
TZNAME:CEST
DTSTART:20250330T010000
END:DAYLIGHT
BEGIN:STANDARD
TZOFFSETFROM:+0200
TZOFFSETTO:+0100
TZNAME:CET
DTSTART:20251026T010000
END:STANDARD
BEGIN:DAYLIGHT
TZOFFSETFROM:+0100
TZOFFSETTO:+0200
TZNAME:CEST
DTSTART:20260329T010000
END:DAYLIGHT
BEGIN:STANDARD
TZOFFSETFROM:+0200
TZOFFSETTO:+0100
TZNAME:CET
DTSTART:20261025T010000
END:STANDARD
BEGIN:DAYLIGHT
TZOFFSETFROM:+0100
TZOFFSETTO:+0200
TZNAME:CEST
DTSTART:20270328T010000
END:DAYLIGHT
BEGIN:STANDARD
TZOFFSETFROM:+0200
TZOFFSETTO:+0100
TZNAME:CET
DTSTART:20271031T010000
END:STANDARD
END:VTIMEZONE
BEGIN:VEVENT
DTSTART;TZID=Europe/Berlin:20260531T153000
DTEND;TZID=Europe/Berlin:20260531T173000
DTSTAMP:20260420T190700
CREATED:20260419T123148Z
LAST-MODIFIED:20260419T123148Z
UID:10003170-1780241400-1780248600@hofgutleo.de
SUMMARY:Nei-Kung im Sonnenraum mit Rolff Peter Adam
DESCRIPTION:Taoistische Körperkultur \n„NEI-KUNG\, Das Gesundheitstraining für ein langes Leben!\nReferent: Rollf Peter Adam\, Dr.Ac.\, PhD.\,\nBadenweiler/Olten (CH) www.samadhana.com\nNEI-KUNG\, das innere Ki-GONG gehört zu den ältesten\nasiatischen Lebenskünsten und Übungssystemen. In ihrer\nEntwicklung sind Weisheit\, Erfahrung und Wissenschaft der\ntaoistischen Körperkultur enthalten. Viele Krankheiten\nentstehen\, wenn die Lebensenergie „KI“ nicht mehr frei durch\ndie Meridiane fließen kann.- Durch das Üben von „NEI\nKUNG“ kann diese Energie wieder frei durch den Körper\nströmen\, was auch ein wunderbares Behandlungsprogramm\ndarstellt. Alle physischen Elemente werden dadurch im Körper\nintegriert und gestärkt! Der ganze Körper erhält sich durch die\nSequenzen des „Nei-Kung“ bis ins hohe Alter seine Elastizität\nund Jugendlichkeit! \nHofgut LEO Cooperative eG. Gresgen 40\,\nD-79669 Zell im Wiesental. \nSonntag\, 31. Mai 2026\,\nZeitraum 15.30 – 17.30 Uhr \n36\,00 € incl. Nei-Kung-Unterlagen \nAnm. & Info: Hofgut LEO\, Tel. 07625/396\,\nemail: hallo@hofgutleo.de \nReferent:\nR.P. Adam\, Tel. 0171/28.42.127\,\nemail: adam@samadhana.com
URL:https://hofgutleo.de/event/nei-kung-im-sonnenraum-mit-rolff-peter-adam/
CATEGORIES:Genossenschaft,Gesundheit,Kultur,Natur
ATTACH;FMTTYPE=image/png:https://hofgutleo.de/wp-content/uploads/2024/07/Pasted-Graphic-1.png
END:VEVENT
END:VCALENDAR