BEGIN:VCALENDAR
VERSION:2.0
PRODID:-//Hofgut Leo - ECPv6.15.20//NONSGML v1.0//EN
CALSCALE:GREGORIAN
METHOD:PUBLISH
X-ORIGINAL-URL:https://hofgutleo.de
X-WR-CALDESC:Veranstaltungen für Hofgut Leo
REFRESH-INTERVAL;VALUE=DURATION:PT1H
X-Robots-Tag:noindex
X-PUBLISHED-TTL:PT1H
BEGIN:VTIMEZONE
TZID:Europe/Berlin
BEGIN:DAYLIGHT
TZOFFSETFROM:+0100
TZOFFSETTO:+0200
TZNAME:CEST
DTSTART:20250330T010000
END:DAYLIGHT
BEGIN:STANDARD
TZOFFSETFROM:+0200
TZOFFSETTO:+0100
TZNAME:CET
DTSTART:20251026T010000
END:STANDARD
BEGIN:DAYLIGHT
TZOFFSETFROM:+0100
TZOFFSETTO:+0200
TZNAME:CEST
DTSTART:20260329T010000
END:DAYLIGHT
BEGIN:STANDARD
TZOFFSETFROM:+0200
TZOFFSETTO:+0100
TZNAME:CET
DTSTART:20261025T010000
END:STANDARD
BEGIN:DAYLIGHT
TZOFFSETFROM:+0100
TZOFFSETTO:+0200
TZNAME:CEST
DTSTART:20270328T010000
END:DAYLIGHT
BEGIN:STANDARD
TZOFFSETFROM:+0200
TZOFFSETTO:+0100
TZNAME:CET
DTSTART:20271031T010000
END:STANDARD
END:VTIMEZONE
BEGIN:VEVENT
DTSTART;TZID=Europe/Berlin:20260521T200000
DTEND;TZID=Europe/Berlin:20260521T220000
DTSTAMP:20260420T190803
CREATED:20260419T111514Z
LAST-MODIFIED:20260419T111642Z
UID:10003169-1779393600-1779400800@hofgutleo.de
SUMMARY:Vortrag - Giovanni Stocker
DESCRIPTION:Entdecke dein unbegrenztes\, schöpferisches Potential\nWesentlich leben ist der Schlüssel zum Glück und Wohlbefinden\nFehlt dir manchmal etwas Würze in deinem Leben?\nVermisst du von Herzen lachen zu können?\nIst dein Leben etwas eingefahren oder „normal“ geworden?\n\nGlücklich sein heisst „nicht alles zu haben“ und nach Möglichkeit mit wenig Aufwand grossen Erfolg zu erreichen. Wir glauben\, dass ein sicheres problemloses Leben ein gutes Leben ist in dem alles geordnet vonstatten geht. \nDas ist aber nicht dasselbe\, wie sich intensiv zu freuen und glücklich zu sein. Wenn man Glück in sein Leben bringen möchte\, muss man sich darüber im klaren sein und das Glück auch suchen – „also finden“. Zudem sollte man begreifen glücklich sein ist ein Zustand der Entsprechung: all das\, was mich umgibt\, was ich intensiv erlebe\, was ich im Leben bewege\, was mir begegnet\, entspricht meinem tiefsten Inneren. \nIn diesem Seminar möchten wir dir zeigen\, wonach wir in unserem Leben suchen sollten wenn wir das Glück finden möchten. Begeistert durch unser Leben gehen\, das wir führen\, berührt werden in unserem Herzen und unser Wesen wieder spüren und leben können.
URL:https://hofgutleo.de/event/vortrag-giovanni-stocker/
CATEGORIES:Akademie,Genossenschaft,Gesundheit,Kulinarik,Kultur
ATTACH;FMTTYPE=image/jpeg:https://hofgutleo.de/wp-content/uploads/2026/03/unbegrezt_schoepf_potential.jpg
END:VEVENT
END:VCALENDAR