BEGIN:VCALENDAR
VERSION:2.0
PRODID:-//Hofgut Leo - ECPv6.15.20//NONSGML v1.0//EN
CALSCALE:GREGORIAN
METHOD:PUBLISH
X-ORIGINAL-URL:https://hofgutleo.de
X-WR-CALDESC:Veranstaltungen für Hofgut Leo
REFRESH-INTERVAL;VALUE=DURATION:PT1H
X-Robots-Tag:noindex
X-PUBLISHED-TTL:PT1H
BEGIN:VTIMEZONE
TZID:Europe/Berlin
BEGIN:DAYLIGHT
TZOFFSETFROM:+0100
TZOFFSETTO:+0200
TZNAME:CEST
DTSTART:20250330T010000
END:DAYLIGHT
BEGIN:STANDARD
TZOFFSETFROM:+0200
TZOFFSETTO:+0100
TZNAME:CET
DTSTART:20251026T010000
END:STANDARD
BEGIN:DAYLIGHT
TZOFFSETFROM:+0100
TZOFFSETTO:+0200
TZNAME:CEST
DTSTART:20260329T010000
END:DAYLIGHT
BEGIN:STANDARD
TZOFFSETFROM:+0200
TZOFFSETTO:+0100
TZNAME:CET
DTSTART:20261025T010000
END:STANDARD
BEGIN:DAYLIGHT
TZOFFSETFROM:+0100
TZOFFSETTO:+0200
TZNAME:CEST
DTSTART:20270328T010000
END:DAYLIGHT
BEGIN:STANDARD
TZOFFSETFROM:+0200
TZOFFSETTO:+0100
TZNAME:CET
DTSTART:20271031T010000
END:STANDARD
END:VTIMEZONE
BEGIN:VEVENT
DTSTART;TZID=Europe/Berlin:20260517T160000
DTEND;TZID=Europe/Berlin:20260517T173000
DTSTAMP:20260420T190701
CREATED:20260420T074847Z
LAST-MODIFIED:20260420T074847Z
UID:10003173-1779033600-1779039000@hofgutleo.de
SUMMARY:KlangErlebnis im Sonnenraum\, mit Petra Ruth Metz
DESCRIPTION:
URL:https://hofgutleo.de/event/klangerlebnis-im-sonnenraum-mit-petra-ruth-metz/
CATEGORIES:Gesundheit,Kulinarik,Kultur,Musik
ATTACH;FMTTYPE=image/jpeg:https://hofgutleo.de/wp-content/uploads/2026/04/rebelleon-18.jpg
END:VEVENT
END:VCALENDAR