BEGIN:VCALENDAR
VERSION:2.0
PRODID:-//Hofgut Leo - ECPv6.15.20//NONSGML v1.0//EN
CALSCALE:GREGORIAN
METHOD:PUBLISH
X-WR-CALNAME:Hofgut Leo
X-ORIGINAL-URL:https://hofgutleo.de
X-WR-CALDESC:Veranstaltungen für Hofgut Leo
REFRESH-INTERVAL;VALUE=DURATION:PT1H
X-Robots-Tag:noindex
X-PUBLISHED-TTL:PT1H
BEGIN:VTIMEZONE
TZID:Europe/Berlin
BEGIN:DAYLIGHT
TZOFFSETFROM:+0100
TZOFFSETTO:+0200
TZNAME:CEST
DTSTART:20250330T010000
END:DAYLIGHT
BEGIN:STANDARD
TZOFFSETFROM:+0200
TZOFFSETTO:+0100
TZNAME:CET
DTSTART:20251026T010000
END:STANDARD
BEGIN:DAYLIGHT
TZOFFSETFROM:+0100
TZOFFSETTO:+0200
TZNAME:CEST
DTSTART:20260329T010000
END:DAYLIGHT
BEGIN:STANDARD
TZOFFSETFROM:+0200
TZOFFSETTO:+0100
TZNAME:CET
DTSTART:20261025T010000
END:STANDARD
BEGIN:DAYLIGHT
TZOFFSETFROM:+0100
TZOFFSETTO:+0200
TZNAME:CEST
DTSTART:20270328T010000
END:DAYLIGHT
BEGIN:STANDARD
TZOFFSETFROM:+0200
TZOFFSETTO:+0100
TZNAME:CET
DTSTART:20271031T010000
END:STANDARD
END:VTIMEZONE
BEGIN:VEVENT
DTSTART;TZID=Europe/Berlin:20260501T100000
DTEND;TZID=Europe/Berlin:20260501T180000
DTSTAMP:20260420T173011
CREATED:20251110T112332Z
LAST-MODIFIED:20251110T112430Z
UID:10001535-1777629600-1777658400@hofgutleo.de
SUMMARY:Intensiv-Behandlung: Marma-Abhyanga-Wirbelsäulen
DESCRIPTION:Entdecken Sie einzigartige Behandlungsmethoden mit R.P. Adam\, PhD.\, Dr. Ac. MY\, Ihrem Experten für Ayurveda und ganzheitliche Heilung. \nDieses Angebot umfasst: Marma-Therapie\, Abhyanga-Massage\, Wirbelsäulenbehandlung\, Moxibustion und Akupunktur\, angereichert mit traditionellen indischen Heilölen. \n  \nVerfügbarkeit: \n\nJeden ersten Freitag im Monat\nUhrzeit: 10:00 – 18:00 Uhr\nDauer: 1\,5 Stunden pro Behandlung\n\n  \nHonorar pro Behandlung: 142\,00 € inklusive Konsultation\, Beratung\, Behandlung & Raummiete \nAnmeldung & Info: \n+49 171 2842127 \nadam@samadhana.com \n  \nSAMADHANA Badenweiler\n  \nYogacharya\, Heilpraktiker\, dipl. Ayurveda-Spezialist\, Akupunkteur\, cert. Prana-Healer\, Tae-Kwon-Do 3. Dan\, Zen-Lehrer\, Nei-Kung-Instructor\, verfügt über 35-jährige intensive Erkenntnisse in den asiatischen Heil- und Lebenskünsten. \n  \nEr unterrichtet\, behandelt und bildet aus in der Naturheilpraxis & Yogaschule Olten und im HOFGUT LEO. \nEr entwickelte „Nadi-Yoga im Zyklus der fünf Wandlungen“ für geschwächte\, alte und kranke Menschen\, einer Synthese aus TCM und traditionellem Yoga\, um das Energiesystem über die Ausrichtung der Nadis zu balancieren. \n  \nEr begleitet Herz- und Krebspatienten mit „Yoga of the heart“ nach Nischala Joy Devi\, USA und betreut seit über 45 Jahren Menschen mit Burn-out in Ayurveda-Kuren. \n  \nWeiteres Angebot:\n  \nNADI -YOGA DER 5 ELEMENTE\n»AYURVEDISCHE HEILKRAFT« \n* Die 5 präzisen-elementaren Yoga-Zyklen und ihre Wirkung auf das Energiesystem \n* Die 5 Elemente und ihre Zuordnung zu den Organen und dem Meridiansystem \n*Aku-Punkte und ihre Heilkraft zur Steigerung des Energiestromes \n* Meditative Stille & Einheitsgefühl \n* Ayurveda – Lebenskunde im Alltag (Swasta Vritti) \n* Thalodal – Ayurvedische Rückenmassage mit Heilölen \n* Ernährungslehre (Anna Vijnana) & Konstitutionsmittel \nDieses Seminar ist ausdrücklich auch für Menschen mit körperlichen Beeinträchtigungen geeignet. \n  \nWochenendseminar Beginn Freitag 18.00 Uhr / Ende: Sonntag 12.30 Uhr \nHonorar: 180\,00 € (incl. Unterrichtsmanual)\, zzgl. Übernachtung/ Verpflegung \n  \nTermine für dieses und weitere Angebote (auch für Gruppen) nach Vereinbarung
URL:https://hofgutleo.de/event/marma-abhyanga-wirbelsaeulen-2/2026-05-01/
CATEGORIES:Gesundheit
ATTACH;FMTTYPE=image/png:https://hofgutleo.de/wp-content/uploads/2024/07/Pasted-Graphic-1.png
END:VEVENT
END:VCALENDAR