BEGIN:VCALENDAR
VERSION:2.0
PRODID:-//Hofgut Leo - ECPv6.15.20//NONSGML v1.0//EN
CALSCALE:GREGORIAN
METHOD:PUBLISH
X-WR-CALNAME:Hofgut Leo
X-ORIGINAL-URL:https://hofgutleo.de
X-WR-CALDESC:Veranstaltungen für Hofgut Leo
REFRESH-INTERVAL;VALUE=DURATION:PT1H
X-Robots-Tag:noindex
X-PUBLISHED-TTL:PT1H
BEGIN:VTIMEZONE
TZID:Europe/Berlin
BEGIN:DAYLIGHT
TZOFFSETFROM:+0100
TZOFFSETTO:+0200
TZNAME:CEST
DTSTART:20250330T010000
END:DAYLIGHT
BEGIN:STANDARD
TZOFFSETFROM:+0200
TZOFFSETTO:+0100
TZNAME:CET
DTSTART:20251026T010000
END:STANDARD
BEGIN:DAYLIGHT
TZOFFSETFROM:+0100
TZOFFSETTO:+0200
TZNAME:CEST
DTSTART:20260329T010000
END:DAYLIGHT
BEGIN:STANDARD
TZOFFSETFROM:+0200
TZOFFSETTO:+0100
TZNAME:CET
DTSTART:20261025T010000
END:STANDARD
BEGIN:DAYLIGHT
TZOFFSETFROM:+0100
TZOFFSETTO:+0200
TZNAME:CEST
DTSTART:20270328T010000
END:DAYLIGHT
BEGIN:STANDARD
TZOFFSETFROM:+0200
TZOFFSETTO:+0100
TZNAME:CET
DTSTART:20271031T010000
END:STANDARD
END:VTIMEZONE
BEGIN:VEVENT
DTSTART;TZID=Europe/Berlin:20260425T093000
DTEND;TZID=Europe/Berlin:20260425T220000
DTSTAMP:20260420T173109
CREATED:20251006T082237Z
LAST-MODIFIED:20251105T103506Z
UID:10002849-1777109400-1777154400@hofgutleo.de
SUMMARY:WOMEN AND MEN – RISE*HEAL*CONNECT
DESCRIPTION:Am 25. April 2026 findet zum ersten Mal unser Tag „WOMEN & MEN – RISE*HEAL*CONNECT“ statt –  ein Tag für Frauen und Männer! \n  \nEs gibt eine große\, vielschichtige Wunde zwischen Frauen und Männern und es ist an der Zeit\, dass wir diese anerkennen\, benennen\, wahrnehmen\nund vielleicht auch in Heilung bringen. An unserem Seminartag geht es genau darum. Wir schauen hin und fühlen rein\, wir öffnen unsere Herzen und lassen zu\, dass wir uns gegenseitig erkennen – dass wir uns wahrhaftig begegnen. An diesem Tag geht es um Verbundenheit\, Verletzlichkeit\, Wahrheit\, Respekt\, Würde\, Heilung\, Vertrauen und Liebe. Wir werden uns erinnern\, wer wir tief in unserem Wesen wirklich sind\, wir werden uns erinnern und unsere Ganzheit zurück erobern. \n  \nJede Art von Beziehung\, oder Verbindung\, bedeuten Wachstum – sei es in der Partnerschaft von Frau und Mann\, in Freundschaften\,\nin Arbeitsbeziehungen oder zwischen Schwester und Bruder. Sie laden uns ein\, ja sie zwingen uns regelrecht\, unsere alten Verletzungen und\nKränkungen anzuschauen und zu fühlen. Denn die Nähe\, die in Verbindungen entsteht\, triggert unsere mühsam versteckten Schmerzen. In Verbindungen werden unsere Schutzmauern eingerissen und es wird sichtbar\, was wir vor uns und vor allem vor anderen mühsam versuchen zu verbergen – aus Scham und Ablehnung nicht geliebt zu werden. Nicht geliebt zu werden ist eine unserer Urwunden und wir werden versuchen in den Schmerz einzutauchen und die Wunden zwischen uns mit Achtsamkeit\, Liebe und Mitgefühl ein Stück weit in Heilung bringen. Wir treffen uns in Ritualen\, in Stille\, in Bewegung\, und lassen die Mauern um unsere Herzen einstürzen. \nWir kreieren ein kraftvolles und sicheres Feld\, in dem wir gesehen\, gehalten und bezeugt werden.\nGemeinsam in Schwestern- und Bruderschaft heißen wir uns willkommen mit allem was uns ausmacht und mit allem was wir mitbringen.\nLangsam werden wir Schritt für Schritt vertrauen. Vertrauen ist das unsichtbare Band\, das uns verbindet und trägt. \n  \nPROGRAMM\n\n\n\n\n10:00 Uhr: Doors open\n10:30 Uhr: Opening\n12:30 Uhr: Pause/Mittagessen (nicht im Ticket enthalten)\n13:30 Workshop Frauen und Männer getrennt\n15:30 Uhr: Pause; es besteht die Möglich für Kaffee\, Tee und Kuchen im Restaurant (nicht im Ticket enthalten)\n16:30 Uhr: Workshop Frauen und Männer gemeinsam\n18:30 Uhr: Pause/Abendessen (nicht im Ticket enthalten)\n20:00 Uhr: KLANG-HEIL-RAUM – Konzert mit Mitsch Kohn\nca. 23:00 Uhr Ende\n\nTICKETS\n\n\n\n\nICH BIN DABEI UND KOMME ALLEIN\n198\,00 € (inkl. 19% MwSt.)*\nWIR KOMMEN ZU ZWEIT\n360\,00 € (inkl. 19% MwSt.; 36\,00 € Rabatt)* \n\n(*Inklusive aller Workshops und dem Konzert von Mitsch Kohn)\nDa der Tag aufeinander aufbaut\, ist es leider nicht möglich\, nur ein Ticket für das Konzert am Abend zu buchen.\nWir danken dir für dein Verständnis.\n\n\n\n\n\n\nORGANISATORISCHES\n\n\n\n\n\nÜbernachtung und Verpflegung sind nicht im Ticketpreis enthalten.  \nBitte buche deine Übernachtung und Verpflegung nach Anmeldung zum Seminar direkt hier im LEO. Kontakt über: hallo@hofgutleo.de\n \n\n\nWICHTIG: Die Plätze sind streng limitiert und werden nach Eingang der Anmeldungen vergeben! Bitte buche daher unbedingt zuerst dein Ticket\,\nbevor du dein Zimmer/Bett im LEOs buchst.\n\n \nAnmeldung & Fragen\nWeitere Infos zur Veranstaltung: https://wildwomenbliss.com/produkt/women-and-men-risehealconnect-am-25-april-2026-2/ \n\n\n\n\nBei weiteren Fragen sende bitte deine E-Mail an: info@wildwomenbliss.com\n\n\n\nWeitere Infos im Flyer:\n\n\n\n\n\n\nVorderseite_Flyer_DIN_A6_W&M_April_2026_END\n 
URL:https://hofgutleo.de/event/women-and-men-risehealconnect/
CATEGORIES:Gesundheit,Kultur
ATTACH;FMTTYPE=image/jpeg:https://hofgutleo.de/wp-content/uploads/2025/10/Screenshot_20251008-083654_Firefox.jpg
END:VEVENT
BEGIN:VEVENT
DTSTART;TZID=Europe/Berlin:20260425T140000
DTEND;TZID=Europe/Berlin:20260425T170000
DTSTAMP:20260420T173109
CREATED:20260419T104254Z
LAST-MODIFIED:20260419T104254Z
UID:10003168-1777125600-1777136400@hofgutleo.de
SUMMARY:Unterwegs am Rümmelesbühl mit Luzia Philipp
DESCRIPTION:
URL:https://hofgutleo.de/event/unterwegs-am-ruemmelesbuehl-mit-luzia-philipp/
CATEGORIES:Gesundheit,Kultur,Natur
ATTACH;FMTTYPE=image/jpeg:https://hofgutleo.de/wp-content/uploads/2026/04/Tourflyer_2026.jpg
END:VEVENT
END:VCALENDAR