BEGIN:VCALENDAR
VERSION:2.0
PRODID:-//Hofgut Leo - ECPv6.15.20//NONSGML v1.0//EN
CALSCALE:GREGORIAN
METHOD:PUBLISH
X-ORIGINAL-URL:https://hofgutleo.de
X-WR-CALDESC:Veranstaltungen für Hofgut Leo
REFRESH-INTERVAL;VALUE=DURATION:PT1H
X-Robots-Tag:noindex
X-PUBLISHED-TTL:PT1H
BEGIN:VTIMEZONE
TZID:Europe/Berlin
BEGIN:DAYLIGHT
TZOFFSETFROM:+0100
TZOFFSETTO:+0200
TZNAME:CEST
DTSTART:20250330T010000
END:DAYLIGHT
BEGIN:STANDARD
TZOFFSETFROM:+0200
TZOFFSETTO:+0100
TZNAME:CET
DTSTART:20251026T010000
END:STANDARD
BEGIN:DAYLIGHT
TZOFFSETFROM:+0100
TZOFFSETTO:+0200
TZNAME:CEST
DTSTART:20260329T010000
END:DAYLIGHT
BEGIN:STANDARD
TZOFFSETFROM:+0200
TZOFFSETTO:+0100
TZNAME:CET
DTSTART:20261025T010000
END:STANDARD
BEGIN:DAYLIGHT
TZOFFSETFROM:+0100
TZOFFSETTO:+0200
TZNAME:CEST
DTSTART:20270328T010000
END:DAYLIGHT
BEGIN:STANDARD
TZOFFSETFROM:+0200
TZOFFSETTO:+0100
TZNAME:CET
DTSTART:20271031T010000
END:STANDARD
END:VTIMEZONE
BEGIN:VEVENT
DTSTART;TZID=Europe/Berlin:20260410T080000
DTEND;TZID=Europe/Berlin:20260412T140000
DTSTAMP:20260420T173244
CREATED:20251209T101607Z
LAST-MODIFIED:20251209T101607Z
UID:10003028-1775808000-1776002400@hofgutleo.de
SUMMARY:Retreat: Die Reise zu Dir Selbst
DESCRIPTION:Wird es Zeit für eine Veränderung? Möchtest du dich (wieder) in der Tiefe spüren\, dich lebendig fühlen oder einen Mutsprung\, hin zu dir selbst\, machen? \nDann ist diese Einladung für Dich. An vier Terminen (die auch einzeln buchbar sind)\, kannst Du in einer kleinen Gruppe\, im wunderbaren Hofgut LEO\, deine kraftvollen Schritte auf der Reise zu dir selbst gehen. \nBuchung und weitere Informationen: \nClaudia 0049 (0) 175 22 22 677  (auch Signal\, Telegram oder WhatsApp). mail@claudia-walcher.de oder im kostenlosen Online Meeting am  17.01.2026 um 16:00 Uhr  \nBis bald\, wir freuen uns auf dich!
URL:https://hofgutleo.de/event/retreat-die-reise-zu-dir-selbst/2026-04-10/
ATTACH;FMTTYPE=image/jpeg:https://hofgutleo.de/wp-content/uploads/2024/09/5361655809198646938_121.jpg
END:VEVENT
BEGIN:VEVENT
DTSTART;TZID=Europe/Berlin:20260410T110000
DTEND;TZID=Europe/Berlin:20260410T150000
DTSTAMP:20260420T173244
CREATED:20250630T074731Z
LAST-MODIFIED:20250707T040449Z
UID:10002614-1775818800-1775833200@hofgutleo.de
SUMMARY:KLANG-ERFAHRUNG  hautnah jeden 2. Freitag des Monats
DESCRIPTION:KLANG-ERFAHRUNG \n  \nMeine speziellen Frequenzen bringen blockierte Energien im Körper wieder in Fluss. \n  \nDie Welt ist Klang. Unsere Körper bestehen zu rund 70% aus Wasser – einem optimalen Schwingungsmedium – und ein wunderbarer Indikator um sichtbar zu machen\, an welcher Stelle etwas aus unserer Ur-Schwingung geraten ist.\n💫 Du fühlst dich erstarrt – körperlich\, geistig\, seelisch? Meine einHerTz-Klänge bewirken eine unmittelbare Entspannung. \n  \n💫Du hängst im Gedankenkarussell – was wäre\, wenn? Tauche ein in das heilsame Energiefeld der einHerTz-Klänge und durchbreche die Grübelspirale. \n  \nAktiviere Deine körperlichen\, geistigen und seelischen Selbstheilungskräfte durch eine Klangsession. \nDie einzigartigen einHertz-Klänge erreichen Dich auf einer unbewussten Ebene. Die eigens dafür entwickelten Klanginstrumente „sprechen“ über Klangstäbe aus Metall und Kristall\, Röhrenglocken\, WahWahPipes und Gongs. Ihre entspannenden und transformierenden Frequenzen\nwirken auf verschiedenen Ebenen:  \n💫 Die Klänge öffnen einen Klangraum und führen Dich in die STILLE. Die Stille zwischen dem Klang. In diesem Raum spürst Du Deinen Körper und fühlst\, was wirklich wesentlich ist. Dadurch kommt Dein Geist zur Ruhe und entspannt sich. \n💫 Die einHerTz-Frequenzen unterstützen dich\, aus dem täglichen Gedankenkarussell auszusteigen und öffnen den Zugang zu Deinen Innenwelten. Mit Dir selbst verbunden kannst Du Dich leichter auf Deine inneren Prozesse einlassen – wenn die Zeit dafür reif ist und Du dafür bereit bist. \n💫 Die einHerTz-Klänge geben Körper\, Geist und Seele Heilimpulse\, und intensivieren und beschleunigen auf allen drei Ebenen Deine nächsten Entwicklungsschritte.  \n  \nTauche in die heilsamen einHerTz-Frequenzen ein und genieße die regenerative Entspannung. \nDie 13 Metallklangstäbe werden auf die 13 Hauptgelenke des bekleideten Körpers aufgelegt und zum Erklingen gebracht. Der 14. Ton – der Herzton – liegt dabei in der Nähe des Kopfes. Unterstützt wird die KlangErfahrung durch WahWah Pipes und Kristallklangstäbe sowie die Röhrenglocke C 128 Hz. Diese kann speziell zum Lösen von Verspannung im Rückenbereich eingesetzt werden. \nDie KlangErfahrung dauert 60 Minuten und umfasst ein Vorgespräch\, die Anwendung\, eine Ruhezeit sowie ein Nachgespräch. Eine Schnupper“stunde“ von 30 min kann zum Kennenlernen einmalig im Hofgut LEO gebucht werden. \n  \nDeine Investition in Dich: 125 € für 60 min.\, Schnupper“stunde“ 62 € für 30 min \n  \nTermine im Hofgut LEO: in der Regel jeden 2. Freitag im Monat zwischen 11 und 15 Uhr sowie nach Vereinbarung. Eine verbindliche Buchung ist erforderlich und sollte mindestens 48 h vorher erfolgt sein. \n  \nSchenke Dir eine KlangErfahrung hautnah.  \n  \nGehst Du in Resonanz?\nDann schaue nach dem nächsten freien Termin in meinem Kalender oder nimm direkt mit mir Kontakt per email auf….. BUTTON https://einhertz-klaenge.gmbh/kontakt/   \n  \nTermine im Hofgut LEO: in der Regel jeden 2. Freitag im Monat zwischen 11 und 15 Uhr sowie nach Vereinbarung. Eine verbindliche Buchung ist erforderlich und sollte mindestens 48 h vorher erfolgt sein. \n  \nLausche dem Klang Deines Herzens und folge ihm…
URL:https://hofgutleo.de/event/klang-erlebnis-2/2026-04-10/
CATEGORIES:Gesundheit,Musik
ATTACH;FMTTYPE=image/jpeg:https://hofgutleo.de/wp-content/uploads/2025/06/photo_2025-07-02_11-38-59.jpg
END:VEVENT
BEGIN:VEVENT
DTSTART;TZID=Europe/Berlin:20260410T170000
DTEND;TZID=Europe/Berlin:20260412T160000
DTSTAMP:20260420T173244
CREATED:20260330T130304Z
LAST-MODIFIED:20260330T130304Z
UID:10003104-1775840400-1776009600@hofgutleo.de
SUMMARY:Seminar mit Giovanni Stocker - Deine Bestimmung spüren
DESCRIPTION:Frieden\, Glück und Erfüllung finden\n\nWas macht dich zu dem was Du bist?Welche Talente und Fähigkeiten hast Du?Was sind Deine Herzenergien die Dir Glück und Erfüllung bringen??\n\nWenn wir in diese Welt geboren werden\, haben wir alle die für uns typischen Sehnsüchte\, Fähigkeiten und persönlichen Merkmale. Diese sind tief in unserem Wesen verankert und wollen zum Ausdruck kommen. \nLeben wir unsere Talente und Fähigkeiten\, dann spüren wir unser Wesen und unser Lebensweg macht uns glücklich und gibt uns ein Gefühl der Erfüllung. Häufig leben wir jedoch nicht gemäss unserem Wesen\, sondern übernehmen Rollen\, die nicht zu uns passen. Auch wenn wir uns in diesen Rollen nicht besonders wohl fühlen\, sie als stressig oder gar bedrückend empfinden\, versuchen wir sie trotzdem noch besser zu leben\, weil wir sie für Aspekte von uns halten. \nIn diesen Tagen möchte ich Dir zeigen\, wie Du herausfinden kannst\, was Du jenseits aller Rollen in Deinem Wesen wirklich bist. Welche Talente und Fähigkeiten in Dir auf Entfaltung warten. Wie Du Deine Herzensstimme hören kannst\, die Dich wesentlich leben lässt und zu Deiner Bestimmung führt. \nDen Weg des Herzens zu gehen\, bringt Freude\, Glück und Erfüllung und alles ist möglich! \n\n\nhttps://www.giovanni.li/veranstaltungen/seminare/deine-bestimmung-spueren
URL:https://hofgutleo.de/event/seminar-mit-giovanni-stocker-deine-bestimmung-spueren/
CATEGORIES:Akademie,Genossenschaft,Gesundheit,Kulinarik,Kultur,Musik,Natur
ATTACH;FMTTYPE=image/jpeg:https://hofgutleo.de/wp-content/uploads/2026/03/deine_bestimmung_spueren.jpg
END:VEVENT
END:VCALENDAR