BEGIN:VCALENDAR
VERSION:2.0
PRODID:-//Hofgut Leo - ECPv6.15.20//NONSGML v1.0//EN
CALSCALE:GREGORIAN
METHOD:PUBLISH
X-ORIGINAL-URL:https://hofgutleo.de
X-WR-CALDESC:Veranstaltungen für Hofgut Leo
REFRESH-INTERVAL;VALUE=DURATION:PT1H
X-Robots-Tag:noindex
X-PUBLISHED-TTL:PT1H
BEGIN:VTIMEZONE
TZID:Europe/Berlin
BEGIN:DAYLIGHT
TZOFFSETFROM:+0100
TZOFFSETTO:+0200
TZNAME:CEST
DTSTART:20250330T010000
END:DAYLIGHT
BEGIN:STANDARD
TZOFFSETFROM:+0200
TZOFFSETTO:+0100
TZNAME:CET
DTSTART:20251026T010000
END:STANDARD
BEGIN:DAYLIGHT
TZOFFSETFROM:+0100
TZOFFSETTO:+0200
TZNAME:CEST
DTSTART:20260329T010000
END:DAYLIGHT
BEGIN:STANDARD
TZOFFSETFROM:+0200
TZOFFSETTO:+0100
TZNAME:CET
DTSTART:20261025T010000
END:STANDARD
BEGIN:DAYLIGHT
TZOFFSETFROM:+0100
TZOFFSETTO:+0200
TZNAME:CEST
DTSTART:20270328T010000
END:DAYLIGHT
BEGIN:STANDARD
TZOFFSETFROM:+0200
TZOFFSETTO:+0100
TZNAME:CET
DTSTART:20271031T010000
END:STANDARD
END:VTIMEZONE
BEGIN:VEVENT
DTSTART;VALUE=DATE:20260321
DTEND;VALUE=DATE:20260322
DTSTAMP:20260420T192524
CREATED:20260121T090305Z
LAST-MODIFIED:20260316T080101Z
UID:10003036-1774051200-1774137599@hofgutleo.de
SUMMARY:Eröffnung Sonnenraum
DESCRIPTION:Am 21. und 22.3.2026 wird der im Hofgut LEO\, Gresgen 40\, Zell im Wiesental\, der „Sonnenraum“ eröffnet. Der Sonnenraum vereint mit seiner reziproken Dachstruktur\, regionalen Materialien\, Lehmputz\, begrüntem Dach\, Mondholz und Pneumatit viele Besonderheiten\, die ihm ein einzigartiges Raumgefühl verleihen. \nDie Einweihung als Ruhe-\, Meditations- und Meetingraum wird mit einem vielfältigen Programm gefeiert. Samstag\, 21.3. startet der Tag um 11 Uhr mit Musik\, um 11.30 Uhr ist die offizielle Eröffnung. Dann folgen Beiträge von den Initiatoren und Schnuppereinheiten in Nei Kung und Reiki. Sonntag\, 22.3.\, ab 10 Uhr gibt es weitere Schnupperstunden in Reiki und Nei Kung. Vollständiges Programm: \nKulinarisch begleitet wird die Eröffnung vom ersten Barbecue im LEOGarten des Jahres. Ab 12 Uhr servieren die Grillbuebe leckere Kreationen vom Grill.
URL:https://hofgutleo.de/event/safe-the-date/
CATEGORIES:Genossenschaft,Kultur
ATTACH;FMTTYPE=image/jpeg:https://hofgutleo.de/wp-content/uploads/2026/01/Dein-Abschnittstext.jpg
END:VEVENT
END:VCALENDAR