BEGIN:VCALENDAR
VERSION:2.0
PRODID:-//Hofgut Leo - ECPv6.15.20//NONSGML v1.0//EN
CALSCALE:GREGORIAN
METHOD:PUBLISH
X-WR-CALNAME:Hofgut Leo
X-ORIGINAL-URL:https://hofgutleo.de
X-WR-CALDESC:Veranstaltungen für Hofgut Leo
REFRESH-INTERVAL;VALUE=DURATION:PT1H
X-Robots-Tag:noindex
X-PUBLISHED-TTL:PT1H
BEGIN:VTIMEZONE
TZID:Europe/Berlin
BEGIN:DAYLIGHT
TZOFFSETFROM:+0100
TZOFFSETTO:+0200
TZNAME:CEST
DTSTART:20250330T010000
END:DAYLIGHT
BEGIN:STANDARD
TZOFFSETFROM:+0200
TZOFFSETTO:+0100
TZNAME:CET
DTSTART:20251026T010000
END:STANDARD
BEGIN:DAYLIGHT
TZOFFSETFROM:+0100
TZOFFSETTO:+0200
TZNAME:CEST
DTSTART:20260329T010000
END:DAYLIGHT
BEGIN:STANDARD
TZOFFSETFROM:+0200
TZOFFSETTO:+0100
TZNAME:CET
DTSTART:20261025T010000
END:STANDARD
BEGIN:DAYLIGHT
TZOFFSETFROM:+0100
TZOFFSETTO:+0200
TZNAME:CEST
DTSTART:20270328T010000
END:DAYLIGHT
BEGIN:STANDARD
TZOFFSETFROM:+0200
TZOFFSETTO:+0100
TZNAME:CET
DTSTART:20271031T010000
END:STANDARD
END:VTIMEZONE
BEGIN:VEVENT
DTSTART;TZID=Europe/Berlin:20260319T180000
DTEND;TZID=Europe/Berlin:20260319T210000
DTSTAMP:20260420T192243
CREATED:20260311T082636Z
LAST-MODIFIED:20260311T110457Z
UID:10003102-1773943200-1773954000@hofgutleo.de
SUMMARY:RebelLEOn "Graswurzelbewegungen"
DESCRIPTION:Im sechsten Teil der RebelLEOn „Graswurzelbewegungen“ treffen\nHinterwälder auf Vorderwäldler. Antonia Wetzel und Katja Brudermann\nhaben sich zusammengefunden\, um den Landwirten eine Stimme zu geben. \n„Weniger Bürokratie\, mehr Chancengleichheit und regionale\nErzeuger-Verbraucher-Kreisläufe“\, wünscht sich Antonia (Landwirtin aus\nAitern). Aber wie erklärt man das der breiten Bevölkerung oder auch nur\nder Spitze der Politik. Mit einem Hinterwälderkrimidinner.. meint Katja\nBrudermann (Agrarjournalistin und Autorin). \nWie es zu der verrückten Idee kam\, wo sich das Ganze abspielen soll und\nwas noch getan werden muss\, darum soll es am Josefstag gehen. Und wie\nwir wissen: „Ein schöner Josefstag bringt ein gutes Jahr“ (alte\nBauernregel). \nEinlass 18 Uhr\, Beginn der Vorträge 19 Uhr\, bis 21 Uhr kleine Vesperkarte \nBerkana Leo
URL:https://hofgutleo.de/event/rebelleon-graswurzelbewegungen/
CATEGORIES:Akademie,Genossenschaft,Gesundheit,Kultur,Natur
ATTACH;FMTTYPE=image/jpeg:https://hofgutleo.de/wp-content/uploads/2026/03/BLV_Hinterwaelder_PRINT_DSC08023-Bearbeitet-2.jpeg
END:VEVENT
END:VCALENDAR