BEGIN:VCALENDAR
VERSION:2.0
PRODID:-//Hofgut Leo - ECPv6.15.20//NONSGML v1.0//EN
CALSCALE:GREGORIAN
METHOD:PUBLISH
X-WR-CALNAME:Hofgut Leo
X-ORIGINAL-URL:https://hofgutleo.de
X-WR-CALDESC:Veranstaltungen für Hofgut Leo
REFRESH-INTERVAL;VALUE=DURATION:PT1H
X-Robots-Tag:noindex
X-PUBLISHED-TTL:PT1H
BEGIN:VTIMEZONE
TZID:Europe/Berlin
BEGIN:DAYLIGHT
TZOFFSETFROM:+0100
TZOFFSETTO:+0200
TZNAME:CEST
DTSTART:20250330T010000
END:DAYLIGHT
BEGIN:STANDARD
TZOFFSETFROM:+0200
TZOFFSETTO:+0100
TZNAME:CET
DTSTART:20251026T010000
END:STANDARD
BEGIN:DAYLIGHT
TZOFFSETFROM:+0100
TZOFFSETTO:+0200
TZNAME:CEST
DTSTART:20260329T010000
END:DAYLIGHT
BEGIN:STANDARD
TZOFFSETFROM:+0200
TZOFFSETTO:+0100
TZNAME:CET
DTSTART:20261025T010000
END:STANDARD
BEGIN:DAYLIGHT
TZOFFSETFROM:+0100
TZOFFSETTO:+0200
TZNAME:CEST
DTSTART:20270328T010000
END:DAYLIGHT
BEGIN:STANDARD
TZOFFSETFROM:+0200
TZOFFSETTO:+0100
TZNAME:CET
DTSTART:20271031T010000
END:STANDARD
END:VTIMEZONE
BEGIN:VEVENT
DTSTART;TZID=Europe/Berlin:20260226T180000
DTEND;TZID=Europe/Berlin:20260226T200000
DTSTAMP:20260420T192307
CREATED:20260209T121427Z
LAST-MODIFIED:20260209T121541Z
UID:10003039-1772128800-1772136000@hofgutleo.de
SUMMARY:3 Gänge Menü Abend von Dominic Böttcher
DESCRIPTION:Unser Lieber Dominic wird am 26.02. seine Ausbildung mit einem 3 Gänge Menü im LEO abschließen. Es wird sowohl eine Variante mit Fleisch als auch eine Vegetarische Variante geben. Der Preis liegt bei 44\,- bzw 49\,- Euro. Bei Bei Interesse meldet euch bitte unter hallo@hofgutleo.de an. Nur auf Anmeldung. \nAnbei eine Hommage an Nikki von Michael Romahn \nPoster NNickis Poster 2icki \nNickis Poster 2 \n 
URL:https://hofgutleo.de/event/3-gaenge-menue-abend-von-dominic-boettcher/
CATEGORIES:Gesundheit,Kulinarik,Kultur
ATTACH;FMTTYPE=image/jpeg:https://hofgutleo.de/wp-content/uploads/2026/02/rebelleon-7.jpg
END:VEVENT
END:VCALENDAR