BEGIN:VCALENDAR
VERSION:2.0
PRODID:-//Hofgut Leo - ECPv6.15.20//NONSGML v1.0//EN
CALSCALE:GREGORIAN
METHOD:PUBLISH
X-ORIGINAL-URL:https://hofgutleo.de
X-WR-CALDESC:Veranstaltungen für Hofgut Leo
REFRESH-INTERVAL;VALUE=DURATION:PT1H
X-Robots-Tag:noindex
X-PUBLISHED-TTL:PT1H
BEGIN:VTIMEZONE
TZID:Europe/Berlin
BEGIN:DAYLIGHT
TZOFFSETFROM:+0100
TZOFFSETTO:+0200
TZNAME:CEST
DTSTART:20250330T010000
END:DAYLIGHT
BEGIN:STANDARD
TZOFFSETFROM:+0200
TZOFFSETTO:+0100
TZNAME:CET
DTSTART:20251026T010000
END:STANDARD
BEGIN:DAYLIGHT
TZOFFSETFROM:+0100
TZOFFSETTO:+0200
TZNAME:CEST
DTSTART:20260329T010000
END:DAYLIGHT
BEGIN:STANDARD
TZOFFSETFROM:+0200
TZOFFSETTO:+0100
TZNAME:CET
DTSTART:20261025T010000
END:STANDARD
BEGIN:DAYLIGHT
TZOFFSETFROM:+0100
TZOFFSETTO:+0200
TZNAME:CEST
DTSTART:20270328T010000
END:DAYLIGHT
BEGIN:STANDARD
TZOFFSETFROM:+0200
TZOFFSETTO:+0100
TZNAME:CET
DTSTART:20271031T010000
END:STANDARD
END:VTIMEZONE
BEGIN:VEVENT
DTSTART;TZID=Europe/Berlin:20260215T140000
DTEND;TZID=Europe/Berlin:20260215T153000
DTSTAMP:20260421T174241
CREATED:20260211T080909Z
LAST-MODIFIED:20260211T080909Z
UID:10003042-1771164000-1771169400@hofgutleo.de
SUMMARY:Meditation "Mit Pflanzen verbunden"
DESCRIPTION:Meditation & Pflanzenbegegnung verschoben auf diesen Sonntag\, 15.02. um 14 Uhr  Wir werden den neuen Seminarraum im Außenbereich vom LEO – den Sonnenraum mit seiner besonderen Energie – nutzen. Da freue ich mich sehr darauf. Diesmal zu Gast: der Rotklee Sei gerne dabei und melde dich an über den Link oder eine kurze Nachricht an mich. https://naturseelenweg.de/meditationen/ Ich freue mich.  Melanie
URL:https://hofgutleo.de/event/meditation-mit-pflanzen-verbunden/
CATEGORIES:Gesundheit,Kultur
ATTACH;FMTTYPE=image/jpeg:https://hofgutleo.de/wp-content/uploads/2026/02/photo_5213096549745890652_y.jpg
END:VEVENT
END:VCALENDAR