BEGIN:VCALENDAR
VERSION:2.0
PRODID:-//Hofgut Leo - ECPv6.15.20//NONSGML v1.0//EN
CALSCALE:GREGORIAN
METHOD:PUBLISH
X-ORIGINAL-URL:https://hofgutleo.de
X-WR-CALDESC:Veranstaltungen für Hofgut Leo
REFRESH-INTERVAL;VALUE=DURATION:PT1H
X-Robots-Tag:noindex
X-PUBLISHED-TTL:PT1H
BEGIN:VTIMEZONE
TZID:Europe/Berlin
BEGIN:DAYLIGHT
TZOFFSETFROM:+0100
TZOFFSETTO:+0200
TZNAME:CEST
DTSTART:20250330T010000
END:DAYLIGHT
BEGIN:STANDARD
TZOFFSETFROM:+0200
TZOFFSETTO:+0100
TZNAME:CET
DTSTART:20251026T010000
END:STANDARD
BEGIN:DAYLIGHT
TZOFFSETFROM:+0100
TZOFFSETTO:+0200
TZNAME:CEST
DTSTART:20260329T010000
END:DAYLIGHT
BEGIN:STANDARD
TZOFFSETFROM:+0200
TZOFFSETTO:+0100
TZNAME:CET
DTSTART:20261025T010000
END:STANDARD
BEGIN:DAYLIGHT
TZOFFSETFROM:+0100
TZOFFSETTO:+0200
TZNAME:CEST
DTSTART:20270328T010000
END:DAYLIGHT
BEGIN:STANDARD
TZOFFSETFROM:+0200
TZOFFSETTO:+0100
TZNAME:CET
DTSTART:20271031T010000
END:STANDARD
END:VTIMEZONE
BEGIN:VEVENT
DTSTART;TZID=Europe/Berlin:20260202T180000
DTEND;TZID=Europe/Berlin:20260202T210000
DTSTAMP:20260422T151158
CREATED:20260128T080919Z
LAST-MODIFIED:20260128T080919Z
UID:10003038-1770055200-1770066000@hofgutleo.de
SUMMARY:Vortragsreihe "RebelLEOn"
DESCRIPTION:RebelLEOn Nr.5 „der Schöne und das Biest“\, am Montag den 02.02. im HofgutLEO\, Eintritt frei. \nUm 18 Uhr: mitgebrachte PAK-Proben testen im LEO-Garten (siehe Fotos im\nAnhang) \nAb 19 Uhr: Vorträge \nKüche geöffnet bis 20Uhr30 \nDieter Berger\, stellt vor: „der Giftberg- das PAK vom Belchen“. Die 7 Giftberge im Belchen gebiet. \nBerkana Leo\, referiert über „der Gesundheitsgipfel- zusammen heilen“. \nWiedereinmal ist es soweit. Die Bühne im HofgutLEO ist frei\, für jeden der sich traut seine Geschichte unumwunden zu erzählen. Zu reden und zu riskieren\, dass es einer hört. Den Einstieg in den Abend\, gibt Dieter Berger\, vom BUND\, Deutschlands größter Naturschutzverein\, der in seinem schonungslosen Kampf sei 35 Jahren\, für die Natur bereits die ein oder andere Todesdrohung verzeichnen durfte. Sein Thema. „der Giftberg- das PAK vom Belchen“. Rückendeckung bekommt er von Berkana Leo\, der die günstige Gelegenheit nutzt\, um seine Lieblingsgeschichten rund um den Belchen zu erzählen. Der eigenwillige Moderator ermutigt sein Publikum\, im Anschluss an die Vorträge\, selbst vorzutreten. Wie schon bei den vorangegangenen Abenden soll der Fokus nicht auf dem Reden\, sonder auf dem Gehörtwerden liegen. Alle Anwesenden sind herzlich aufgefordert sich zu zeigen\, wie sie eben sind\, weil so das gute Leben beginnt.
URL:https://hofgutleo.de/event/vortragsreihe-rebelleon-2/
CATEGORIES:Genossenschaft,Gesundheit,Natur
ATTACH;FMTTYPE=image/jpeg:https://hofgutleo.de/wp-content/uploads/2026/01/rebelleon-6.jpg
END:VEVENT
END:VCALENDAR